BEGIN:VCALENDAR
VERSION:2.0
PRODID:-//Bradley Fritts - ECPv6.15.16//NONSGML v1.0//EN
CALSCALE:GREGORIAN
METHOD:PUBLISH
X-WR-CALNAME:Bradley Fritts
X-ORIGINAL-URL:https://repfritts.com
X-WR-CALDESC:Events for Bradley Fritts
REFRESH-INTERVAL;VALUE=DURATION:PT1H
X-Robots-Tag:noindex
X-PUBLISHED-TTL:PT1H
BEGIN:VTIMEZONE
TZID:America/Chicago
BEGIN:DAYLIGHT
TZOFFSETFROM:-0600
TZOFFSETTO:-0500
TZNAME:CDT
DTSTART:20220313T080000
END:DAYLIGHT
BEGIN:STANDARD
TZOFFSETFROM:-0500
TZOFFSETTO:-0600
TZNAME:CST
DTSTART:20221106T070000
END:STANDARD
BEGIN:DAYLIGHT
TZOFFSETFROM:-0600
TZOFFSETTO:-0500
TZNAME:CDT
DTSTART:20230312T080000
END:DAYLIGHT
BEGIN:STANDARD
TZOFFSETFROM:-0500
TZOFFSETTO:-0600
TZNAME:CST
DTSTART:20231105T070000
END:STANDARD
BEGIN:DAYLIGHT
TZOFFSETFROM:-0600
TZOFFSETTO:-0500
TZNAME:CDT
DTSTART:20240310T080000
END:DAYLIGHT
BEGIN:STANDARD
TZOFFSETFROM:-0500
TZOFFSETTO:-0600
TZNAME:CST
DTSTART:20241103T070000
END:STANDARD
END:VTIMEZONE
BEGIN:VEVENT
DTSTART;TZID=America/Chicago:20230823T093000
DTEND;TZID=America/Chicago:20230823T103000
DTSTAMP:20260422T212723
CREATED:20230517T144826Z
LAST-MODIFIED:20240717T165455Z
UID:428-1692783000-1692786600@repfritts.com
SUMMARY:Traveling Office Hours - Earlville
DESCRIPTION:Join Representative Bradley Fritts for traveling office hours in Earlville on August 23rd! \nStaff will be available to assist with constituent services.
URL:https://repfritts.com/event/traveling-office-hours-earlville/
LOCATION:Earlville City Hall\, 210 W. Railroad Street\, Earlville\, IL\, United States
CATEGORIES:Rep. Fritts Calendar
END:VEVENT
BEGIN:VEVENT
DTSTART;TZID=America/Chicago:20230823T113000
DTEND;TZID=America/Chicago:20230823T123000
DTSTAMP:20260422T212723
CREATED:20230517T144954Z
LAST-MODIFIED:20240717T165451Z
UID:432-1692790200-1692793800@repfritts.com
SUMMARY:Traveling Office Hours - Waterman
DESCRIPTION:Join Representative Bradley Fritts for traveling office hours in Waterman on August 23rd! \nStaff will be available to assist with constituent services.
URL:https://repfritts.com/event/traveling-office-hours-waterman/
LOCATION:Waterman Village Hall\, 215 W. Adams Street\, Waterman\, IL\, United States
CATEGORIES:Rep. Fritts Calendar
END:VEVENT
BEGIN:VEVENT
DTSTART;TZID=America/Chicago:20230823T133000
DTEND;TZID=America/Chicago:20230823T143000
DTSTAMP:20260422T212723
CREATED:20230517T145114Z
LAST-MODIFIED:20240717T165448Z
UID:435-1692797400-1692801000@repfritts.com
SUMMARY:Traveling Office Hours - Shabbona
DESCRIPTION:Join Representative Bradley Fritts for traveling office hours in Shabbona on August 23rd! \nStaff will be available to assist with constituent services.
URL:https://repfritts.com/event/traveling-office-hours-shabbona/
LOCATION:Shabbona Village Hall\, 308 E. Comanche Avenue\, Shabbona\, IL\, United States
CATEGORIES:Rep. Fritts Calendar
END:VEVENT
END:VCALENDAR