BEGIN:VCALENDAR
VERSION:2.0
PRODID:-//Bradley Fritts - ECPv6.15.16//NONSGML v1.0//EN
CALSCALE:GREGORIAN
METHOD:PUBLISH
X-WR-CALNAME:Bradley Fritts
X-ORIGINAL-URL:https://repfritts.com
X-WR-CALDESC:Events for Bradley Fritts
REFRESH-INTERVAL;VALUE=DURATION:PT1H
X-Robots-Tag:noindex
X-PUBLISHED-TTL:PT1H
BEGIN:VTIMEZONE
TZID:America/Chicago
BEGIN:DAYLIGHT
TZOFFSETFROM:-0600
TZOFFSETTO:-0500
TZNAME:CDT
DTSTART:20230312T080000
END:DAYLIGHT
BEGIN:STANDARD
TZOFFSETFROM:-0500
TZOFFSETTO:-0600
TZNAME:CST
DTSTART:20231105T070000
END:STANDARD
BEGIN:DAYLIGHT
TZOFFSETFROM:-0600
TZOFFSETTO:-0500
TZNAME:CDT
DTSTART:20240310T080000
END:DAYLIGHT
BEGIN:STANDARD
TZOFFSETFROM:-0500
TZOFFSETTO:-0600
TZNAME:CST
DTSTART:20241103T070000
END:STANDARD
BEGIN:DAYLIGHT
TZOFFSETFROM:-0600
TZOFFSETTO:-0500
TZNAME:CDT
DTSTART:20250309T080000
END:DAYLIGHT
BEGIN:STANDARD
TZOFFSETFROM:-0500
TZOFFSETTO:-0600
TZNAME:CST
DTSTART:20251102T070000
END:STANDARD
END:VTIMEZONE
BEGIN:VEVENT
DTSTART;TZID=America/Chicago:20240710T080000
DTEND;TZID=America/Chicago:20240710T100000
DTSTAMP:20260422T115437
CREATED:20240530T202544Z
LAST-MODIFIED:20240717T152733Z
UID:1789-1720598400-1720605600@repfritts.com
SUMMARY:Coffee & Conversation - Polo
DESCRIPTION:Join State Representative Brad Fritts and Leader Tony McCombie for a Coffee & Conversation event on July 10th from 8:00 AM to 10:00 AM in Polo at the Garden View Family Restaurant! This event is a part of his 2024 Summer Tour of District 74. For a full list of Summer Tour events\, click here.
URL:https://repfritts.com/event/coffee-conversation-polo-2/
LOCATION:Garden View Family Restaurant\, 118 W. Mason Street\, Polo\, IL\, United States
CATEGORIES:Rep. Fritts Calendar
END:VEVENT
END:VCALENDAR