BEGIN:VCALENDAR
VERSION:2.0
PRODID:-//Bradley Fritts - ECPv6.15.16//NONSGML v1.0//EN
CALSCALE:GREGORIAN
METHOD:PUBLISH
X-WR-CALNAME:Bradley Fritts
X-ORIGINAL-URL:https://repfritts.com
X-WR-CALDESC:Events for Bradley Fritts
REFRESH-INTERVAL;VALUE=DURATION:PT1H
X-Robots-Tag:noindex
X-PUBLISHED-TTL:PT1H
BEGIN:VTIMEZONE
TZID:America/Chicago
BEGIN:DAYLIGHT
TZOFFSETFROM:-0600
TZOFFSETTO:-0500
TZNAME:CDT
DTSTART:20230312T080000
END:DAYLIGHT
BEGIN:STANDARD
TZOFFSETFROM:-0500
TZOFFSETTO:-0600
TZNAME:CST
DTSTART:20231105T070000
END:STANDARD
BEGIN:DAYLIGHT
TZOFFSETFROM:-0600
TZOFFSETTO:-0500
TZNAME:CDT
DTSTART:20240310T080000
END:DAYLIGHT
BEGIN:STANDARD
TZOFFSETFROM:-0500
TZOFFSETTO:-0600
TZNAME:CST
DTSTART:20241103T070000
END:STANDARD
BEGIN:DAYLIGHT
TZOFFSETFROM:-0600
TZOFFSETTO:-0500
TZNAME:CDT
DTSTART:20250309T080000
END:DAYLIGHT
BEGIN:STANDARD
TZOFFSETFROM:-0500
TZOFFSETTO:-0600
TZNAME:CST
DTSTART:20251102T070000
END:STANDARD
END:VTIMEZONE
BEGIN:VEVENT
DTSTART;TZID=America/Chicago:20241022T140000
DTEND;TZID=America/Chicago:20241022T160000
DTSTAMP:20260422T063344
CREATED:20241017T202038Z
LAST-MODIFIED:20241017T202038Z
UID:2422-1729605600-1729612800@repfritts.com
SUMMARY:Flu Shot Clinic
DESCRIPTION:Flu shot clinic hosted by the Lee County Health Department.
URL:https://repfritts.com/event/flu-shot-clinic-5/
LOCATION:Paw Paw Village Hall\, 362 Chicago Road\, Paw Paw\, IL\, United States
CATEGORIES:Community Calendar
END:VEVENT
END:VCALENDAR