BEGIN:VCALENDAR
VERSION:2.0
PRODID:-//Bradley Fritts - ECPv6.15.16//NONSGML v1.0//EN
CALSCALE:GREGORIAN
METHOD:PUBLISH
X-ORIGINAL-URL:https://repfritts.com
X-WR-CALDESC:Events for Bradley Fritts
REFRESH-INTERVAL;VALUE=DURATION:PT1H
X-Robots-Tag:noindex
X-PUBLISHED-TTL:PT1H
BEGIN:VTIMEZONE
TZID:America/Chicago
BEGIN:DAYLIGHT
TZOFFSETFROM:-0600
TZOFFSETTO:-0500
TZNAME:CDT
DTSTART:20230312T080000
END:DAYLIGHT
BEGIN:STANDARD
TZOFFSETFROM:-0500
TZOFFSETTO:-0600
TZNAME:CST
DTSTART:20231105T070000
END:STANDARD
BEGIN:DAYLIGHT
TZOFFSETFROM:-0600
TZOFFSETTO:-0500
TZNAME:CDT
DTSTART:20240310T080000
END:DAYLIGHT
BEGIN:STANDARD
TZOFFSETFROM:-0500
TZOFFSETTO:-0600
TZNAME:CST
DTSTART:20241103T070000
END:STANDARD
BEGIN:DAYLIGHT
TZOFFSETFROM:-0600
TZOFFSETTO:-0500
TZNAME:CDT
DTSTART:20250309T080000
END:DAYLIGHT
BEGIN:STANDARD
TZOFFSETFROM:-0500
TZOFFSETTO:-0600
TZNAME:CST
DTSTART:20251102T070000
END:STANDARD
END:VTIMEZONE
BEGIN:VEVENT
DTSTART;TZID=America/Chicago:20241122T170000
DTEND;TZID=America/Chicago:20241122T200000
DTSTAMP:20260422T050119
CREATED:20240801T182208Z
LAST-MODIFIED:20240801T182208Z
UID:2181-1732294800-1732305600@repfritts.com
SUMMARY:Rock Falls Christmas Walk-Hometown Holidays 2024
DESCRIPTION:The Christmas Walk celebrates our businesses and organizations as they transform our community into a Christmas wonderland with activities and magical memories for all ages. There will be a Love Light ceremony and tree lighting\, and a $1k giveaway!
URL:https://repfritts.com/event/rock-falls-christmas-walk-hometown-holidays-2024/
LOCATION:RB&W District\, 201 E. 2nd Street\, Rock Falls\, IL\, United States
CATEGORIES:Community Calendar
END:VEVENT
END:VCALENDAR