BEGIN:VCALENDAR
VERSION:2.0
PRODID:-//Bradley Fritts - ECPv6.15.16//NONSGML v1.0//EN
CALSCALE:GREGORIAN
METHOD:PUBLISH
X-ORIGINAL-URL:https://repfritts.com
X-WR-CALDESC:Events for Bradley Fritts
REFRESH-INTERVAL;VALUE=DURATION:PT1H
X-Robots-Tag:noindex
X-PUBLISHED-TTL:PT1H
BEGIN:VTIMEZONE
TZID:America/Chicago
BEGIN:DAYLIGHT
TZOFFSETFROM:-0600
TZOFFSETTO:-0500
TZNAME:CDT
DTSTART:20240310T080000
END:DAYLIGHT
BEGIN:STANDARD
TZOFFSETFROM:-0500
TZOFFSETTO:-0600
TZNAME:CST
DTSTART:20241103T070000
END:STANDARD
BEGIN:DAYLIGHT
TZOFFSETFROM:-0600
TZOFFSETTO:-0500
TZNAME:CDT
DTSTART:20250309T080000
END:DAYLIGHT
BEGIN:STANDARD
TZOFFSETFROM:-0500
TZOFFSETTO:-0600
TZNAME:CST
DTSTART:20251102T070000
END:STANDARD
BEGIN:DAYLIGHT
TZOFFSETFROM:-0600
TZOFFSETTO:-0500
TZNAME:CDT
DTSTART:20260308T080000
END:DAYLIGHT
BEGIN:STANDARD
TZOFFSETFROM:-0500
TZOFFSETTO:-0600
TZNAME:CST
DTSTART:20261101T070000
END:STANDARD
END:VTIMEZONE
BEGIN:VEVENT
DTSTART;TZID=America/Chicago:20250211T100000
DTEND;TZID=America/Chicago:20250211T113000
DTSTAMP:20260420T140408
CREATED:20241206T204328Z
LAST-MODIFIED:20241217T195248Z
UID:2545-1739268000-1739273400@repfritts.com
SUMMARY:Medicare 101 Seminar
DESCRIPTION:Join in this FREE community seminar hosted by Representatives Brad Fritts and Ryan Spain\, facilitated by the Illinois Department on Aging. \nThis Medicare 101 seminar will include information about who is eligible\, coverage details\, and how to get help with out-of-pocket expenses.
URL:https://repfritts.com/event/medicare-101-seminar/
LOCATION:Rock Falls Chamber of Commerce\, 601 W. 10th Street\, Rock Falls\, IL\, United States
CATEGORIES:Community Calendar,Rep. Fritts Calendar
END:VEVENT
BEGIN:VEVENT
DTSTART;TZID=America/Chicago:20250211T120000
DTEND;TZID=America/Chicago:20250211T220000
DTSTAMP:20260420T140408
CREATED:20250210T170737Z
LAST-MODIFIED:20250210T170737Z
UID:2764-1739275200-1739311200@repfritts.com
SUMMARY:United Way 2-1-1 Day at Culvers
DESCRIPTION:Celebrate 2-1-1 day with $2.11 concrete mixers or cheese curds at Culvers in Rock Falls!
URL:https://repfritts.com/event/united-way-2-1-1-day-at-culvers/
LOCATION:Rock Falls Culvers\, 1901 Harley Davidson Drive\, Rock Falls\, IL\, United States
CATEGORIES:Community Calendar
END:VEVENT
END:VCALENDAR