BEGIN:VCALENDAR
VERSION:2.0
PRODID:-//Bradley Fritts - ECPv6.15.16//NONSGML v1.0//EN
CALSCALE:GREGORIAN
METHOD:PUBLISH
X-WR-CALNAME:Bradley Fritts
X-ORIGINAL-URL:https://repfritts.com
X-WR-CALDESC:Events for Bradley Fritts
REFRESH-INTERVAL;VALUE=DURATION:PT1H
X-Robots-Tag:noindex
X-PUBLISHED-TTL:PT1H
BEGIN:VTIMEZONE
TZID:America/Chicago
BEGIN:DAYLIGHT
TZOFFSETFROM:-0600
TZOFFSETTO:-0500
TZNAME:CDT
DTSTART:20240310T080000
END:DAYLIGHT
BEGIN:STANDARD
TZOFFSETFROM:-0500
TZOFFSETTO:-0600
TZNAME:CST
DTSTART:20241103T070000
END:STANDARD
BEGIN:DAYLIGHT
TZOFFSETFROM:-0600
TZOFFSETTO:-0500
TZNAME:CDT
DTSTART:20250309T080000
END:DAYLIGHT
BEGIN:STANDARD
TZOFFSETFROM:-0500
TZOFFSETTO:-0600
TZNAME:CST
DTSTART:20251102T070000
END:STANDARD
BEGIN:DAYLIGHT
TZOFFSETFROM:-0600
TZOFFSETTO:-0500
TZNAME:CDT
DTSTART:20260308T080000
END:DAYLIGHT
BEGIN:STANDARD
TZOFFSETFROM:-0500
TZOFFSETTO:-0600
TZNAME:CST
DTSTART:20261101T070000
END:STANDARD
END:VTIMEZONE
BEGIN:VEVENT
DTSTART;TZID=America/Chicago:20250213T090000
DTEND;TZID=America/Chicago:20250213T103000
DTSTAMP:20260420T140125
CREATED:20250210T171324Z
LAST-MODIFIED:20250210T172039Z
UID:2770-1739437200-1739442600@repfritts.com
SUMMARY:Back on Track Diabetes Support
DESCRIPTION:Learn diabetes prevention and management skills from University of Illinois Extension Nutrition and Wellness Educator\, Susan Glassman\, MS Ed. and OSF HealthCare Clinical Dietitian Jennifer Scully\, RD LDN CDCES. Join us to learn essential skills for diabetes prevention and management. Connect with others to share experiences exchange tips\, and support each other—whether you’re looking to prevent diabetes\, manage it\, or care for someone affected by diabetes in your life.
URL:https://repfritts.com/event/back-on-track-diabetes-support/
LOCATION:OSF Saint Paul Medical Center Conference Room C\, 1401 E 12th Street\, Mendota\, IL\, United States
CATEGORIES:Community Calendar
END:VEVENT
END:VCALENDAR