BEGIN:VCALENDAR
VERSION:2.0
PRODID:-//Bradley Fritts - ECPv6.15.16//NONSGML v1.0//EN
CALSCALE:GREGORIAN
METHOD:PUBLISH
X-WR-CALNAME:Bradley Fritts
X-ORIGINAL-URL:https://repfritts.com
X-WR-CALDESC:Events for Bradley Fritts
REFRESH-INTERVAL;VALUE=DURATION:PT1H
X-Robots-Tag:noindex
X-PUBLISHED-TTL:PT1H
BEGIN:VTIMEZONE
TZID:America/Chicago
BEGIN:DAYLIGHT
TZOFFSETFROM:-0600
TZOFFSETTO:-0500
TZNAME:CDT
DTSTART:20240310T080000
END:DAYLIGHT
BEGIN:STANDARD
TZOFFSETFROM:-0500
TZOFFSETTO:-0600
TZNAME:CST
DTSTART:20241103T070000
END:STANDARD
BEGIN:DAYLIGHT
TZOFFSETFROM:-0600
TZOFFSETTO:-0500
TZNAME:CDT
DTSTART:20250309T080000
END:DAYLIGHT
BEGIN:STANDARD
TZOFFSETFROM:-0500
TZOFFSETTO:-0600
TZNAME:CST
DTSTART:20251102T070000
END:STANDARD
BEGIN:DAYLIGHT
TZOFFSETFROM:-0600
TZOFFSETTO:-0500
TZNAME:CDT
DTSTART:20260308T080000
END:DAYLIGHT
BEGIN:STANDARD
TZOFFSETFROM:-0500
TZOFFSETTO:-0600
TZNAME:CST
DTSTART:20261101T070000
END:STANDARD
END:VTIMEZONE
BEGIN:VEVENT
DTSTART;TZID=America/Chicago:20250325T183000
DTEND;TZID=America/Chicago:20250325T200000
DTSTAMP:20260420T123742
CREATED:20250306T175257Z
LAST-MODIFIED:20250306T175257Z
UID:2859-1742927400-1742932800@repfritts.com
SUMMARY:NAMI Sauk Area Family Support Group Meeting
DESCRIPTION:Confidential support for family and friends of people with mental health conditions. This is a free event.
URL:https://repfritts.com/event/nami-sauk-area-family-support-group-meeting/
LOCATION:St. Johns Lutheran Church\, 703 3rd Avenue\, Sterling\, IL\, United States
CATEGORIES:Community Calendar
END:VEVENT
END:VCALENDAR