BEGIN:VCALENDAR
VERSION:2.0
PRODID:-//Bradley Fritts - ECPv6.15.16//NONSGML v1.0//EN
CALSCALE:GREGORIAN
METHOD:PUBLISH
X-ORIGINAL-URL:https://repfritts.com
X-WR-CALDESC:Events for Bradley Fritts
REFRESH-INTERVAL;VALUE=DURATION:PT1H
X-Robots-Tag:noindex
X-PUBLISHED-TTL:PT1H
BEGIN:VTIMEZONE
TZID:America/Chicago
BEGIN:DAYLIGHT
TZOFFSETFROM:-0600
TZOFFSETTO:-0500
TZNAME:CDT
DTSTART:20240310T080000
END:DAYLIGHT
BEGIN:STANDARD
TZOFFSETFROM:-0500
TZOFFSETTO:-0600
TZNAME:CST
DTSTART:20241103T070000
END:STANDARD
BEGIN:DAYLIGHT
TZOFFSETFROM:-0600
TZOFFSETTO:-0500
TZNAME:CDT
DTSTART:20250309T080000
END:DAYLIGHT
BEGIN:STANDARD
TZOFFSETFROM:-0500
TZOFFSETTO:-0600
TZNAME:CST
DTSTART:20251102T070000
END:STANDARD
BEGIN:DAYLIGHT
TZOFFSETFROM:-0600
TZOFFSETTO:-0500
TZNAME:CDT
DTSTART:20260308T080000
END:DAYLIGHT
BEGIN:STANDARD
TZOFFSETFROM:-0500
TZOFFSETTO:-0600
TZNAME:CST
DTSTART:20261101T070000
END:STANDARD
END:VTIMEZONE
BEGIN:VEVENT
DTSTART;TZID=America/Chicago:20250408T180000
DTEND;TZID=America/Chicago:20250408T193000
DTSTAMP:20260420T105419
CREATED:20250331T160456Z
LAST-MODIFIED:20250331T160456Z
UID:2955-1744135200-1744140600@repfritts.com
SUMMARY:Home of Hope Wellness Center’s Ladies of Life\, Love and Laughter Support Group
DESCRIPTION:Home of Hope Wellness Center’s Ladies of Life\, Love and Laughter support group meets every 2nd and 4th Tuesday of the month at 6 pm at Home of Hope. The support group is for all women battling cancer.
URL:https://repfritts.com/event/home-of-hope-wellness-centers-ladies-of-life-love-and-laughter-support-group/
LOCATION:Home of Hope Cancer Wellness Center\, 1637 Plock Drive\, Dixon\, IL\, United States
CATEGORIES:Community Calendar
END:VEVENT
END:VCALENDAR