BEGIN:VCALENDAR
VERSION:2.0
PRODID:-//Bradley Fritts - ECPv6.15.16//NONSGML v1.0//EN
CALSCALE:GREGORIAN
METHOD:PUBLISH
X-ORIGINAL-URL:https://repfritts.com
X-WR-CALDESC:Events for Bradley Fritts
REFRESH-INTERVAL;VALUE=DURATION:PT1H
X-Robots-Tag:noindex
X-PUBLISHED-TTL:PT1H
BEGIN:VTIMEZONE
TZID:America/Chicago
BEGIN:DAYLIGHT
TZOFFSETFROM:-0600
TZOFFSETTO:-0500
TZNAME:CDT
DTSTART:20240310T080000
END:DAYLIGHT
BEGIN:STANDARD
TZOFFSETFROM:-0500
TZOFFSETTO:-0600
TZNAME:CST
DTSTART:20241103T070000
END:STANDARD
BEGIN:DAYLIGHT
TZOFFSETFROM:-0600
TZOFFSETTO:-0500
TZNAME:CDT
DTSTART:20250309T080000
END:DAYLIGHT
BEGIN:STANDARD
TZOFFSETFROM:-0500
TZOFFSETTO:-0600
TZNAME:CST
DTSTART:20251102T070000
END:STANDARD
BEGIN:DAYLIGHT
TZOFFSETFROM:-0600
TZOFFSETTO:-0500
TZNAME:CDT
DTSTART:20260308T080000
END:DAYLIGHT
BEGIN:STANDARD
TZOFFSETFROM:-0500
TZOFFSETTO:-0600
TZNAME:CST
DTSTART:20261101T070000
END:STANDARD
END:VTIMEZONE
BEGIN:VEVENT
DTSTART;TZID=America/Chicago:20250411T120000
DTEND;TZID=America/Chicago:20250411T160000
DTSTAMP:20260420T110117
CREATED:20250331T161841Z
LAST-MODIFIED:20250331T161841Z
UID:2985-1744372800-1744387200@repfritts.com
SUMMARY:Community Baby Shower
DESCRIPTION:Free infant and maternity products! Raffle baskets\, giveaways and refreshments.  All families and the community are welcome. Hosted by Ogle County Health Department.
URL:https://repfritts.com/event/community-baby-shower/
LOCATION:Ogle County Health Department\, 510 Lincoln Highway\, Rochelle\, IL\, United States
CATEGORIES:Community Calendar
END:VEVENT
BEGIN:VEVENT
DTSTART;TZID=America/Chicago:20250411T193000
DTEND;TZID=America/Chicago:20250411T210000
DTSTAMP:20260420T110117
CREATED:20250331T161631Z
LAST-MODIFIED:20250331T161631Z
UID:2981-1744399800-1744405200@repfritts.com
SUMMARY:G.I.T National Touring Improv Comedy Troupe
DESCRIPTION:G.I.T National Touring Improv Comedy Troupe. Come and laugh the night away with seasoned Improv Veterans! Tickets are $20 and can be found here.  
URL:https://repfritts.com/event/g-i-t-national-touring-improv-comedy-troupe/
LOCATION:Dixon Historic Theater\, 114 South Galena Avenue\, Dixon\, IL\, United States
CATEGORIES:Community Calendar
END:VEVENT
END:VCALENDAR