BEGIN:VCALENDAR
VERSION:2.0
PRODID:-//Bradley Fritts - ECPv6.15.16//NONSGML v1.0//EN
CALSCALE:GREGORIAN
METHOD:PUBLISH
X-ORIGINAL-URL:https://repfritts.com
X-WR-CALDESC:Events for Bradley Fritts
REFRESH-INTERVAL;VALUE=DURATION:PT1H
X-Robots-Tag:noindex
X-PUBLISHED-TTL:PT1H
BEGIN:VTIMEZONE
TZID:America/Chicago
BEGIN:DAYLIGHT
TZOFFSETFROM:-0600
TZOFFSETTO:-0500
TZNAME:CDT
DTSTART:20240310T080000
END:DAYLIGHT
BEGIN:STANDARD
TZOFFSETFROM:-0500
TZOFFSETTO:-0600
TZNAME:CST
DTSTART:20241103T070000
END:STANDARD
BEGIN:DAYLIGHT
TZOFFSETFROM:-0600
TZOFFSETTO:-0500
TZNAME:CDT
DTSTART:20250309T080000
END:DAYLIGHT
BEGIN:STANDARD
TZOFFSETFROM:-0500
TZOFFSETTO:-0600
TZNAME:CST
DTSTART:20251102T070000
END:STANDARD
BEGIN:DAYLIGHT
TZOFFSETFROM:-0600
TZOFFSETTO:-0500
TZNAME:CDT
DTSTART:20260308T080000
END:DAYLIGHT
BEGIN:STANDARD
TZOFFSETFROM:-0500
TZOFFSETTO:-0600
TZNAME:CST
DTSTART:20261101T070000
END:STANDARD
END:VTIMEZONE
BEGIN:VEVENT
DTSTART;TZID=America/Chicago:20250412T080000
DTEND;TZID=America/Chicago:20250412T120000
DTSTAMP:20260420T110117
CREATED:20250331T160612Z
LAST-MODIFIED:20250331T160612Z
UID:2959-1744444800-1744459200@repfritts.com
SUMMARY:Twin City Farmers Market
DESCRIPTION:Visit Sauk Valley’s only year-round indoor farmers market!
URL:https://repfritts.com/event/twin-city-farmers-market-6/
LOCATION:Twin City Farmers Market\, 106 Avenue A\, Sterling\, IL\, United States
CATEGORIES:Community Calendar
END:VEVENT
BEGIN:VEVENT
DTSTART;TZID=America/Chicago:20250412T090000
DTEND;TZID=America/Chicago:20250412T110000
DTSTAMP:20260420T110117
CREATED:20250314T141832Z
LAST-MODIFIED:20250331T134655Z
UID:2898-1744448400-1744455600@repfritts.com
SUMMARY:Rx Drop Off Drive
DESCRIPTION:Rep. Bradley J. Fritts is partnering with the Sauk Valley Area Chamber of Commerce and the Sterling Police Department to host an RX Drop Off Drive. \nWe will be collecting your unused unwanted or expired prescription drugs and safely disposing of them for FREE. This is an outdoor event that allows you to remain in your vehicle. Drivers should follow the marked lanes when entering and exiting the parking lot. Brochures on state programs will also be available. If this event does not work for you\, please stay tuned to my website at RepFritts.com for future Rx Drop Off Drives. \nAccepted Medications \n\nTablets\, capsules and other solic forms of prescription drugs\nPatches\nVaping devices and cartridges (lithium batteries removed)\nPet Medications\n\nRestricted Items \n\nLiquids (including intravenous solutions)\nSyringes\nNeedles
URL:https://repfritts.com/event/rep-fritts-rx-drop-off-drive/
LOCATION:Sauk Valley Area Chamber of Commerce\, 211 Locust Street\, Sterling\, IL\, United States
CATEGORIES:Rep. Fritts Calendar
ATTACH;FMTTYPE=image/png:https://repfritts.com/wp-content/uploads/sites/64/2025/03/fritts-rx-web-flyer-041225.png
END:VEVENT
BEGIN:VEVENT
DTSTART;TZID=America/Chicago:20250412T113000
DTEND;TZID=America/Chicago:20250412T123000
DTSTAMP:20260420T110117
CREATED:20250331T161432Z
LAST-MODIFIED:20250331T161432Z
UID:2976-1744457400-1744461000@repfritts.com
SUMMARY:Sensory Friendly Easter Egg Hunt
DESCRIPTION:Our sensory friendly easter egg hunt is designed for children of all abilities\, providing a welcoming and relaxed environment.  Free and open to the public. Hosted by Mendota YMCA.
URL:https://repfritts.com/event/sensory-friendly-easter-egg-hunt/
LOCATION:Mendota YMCA\, 1811 S. 13th Avenue\, Mendota\, IL\, United States
CATEGORIES:Community Calendar
END:VEVENT
BEGIN:VEVENT
DTSTART;TZID=America/Chicago:20250412T120000
DTEND;TZID=America/Chicago:20250412T160000
DTSTAMP:20260420T110117
CREATED:20250331T162724Z
LAST-MODIFIED:20250331T162724Z
UID:3003-1744459200-1744473600@repfritts.com
SUMMARY:Coloma Township Park District Easter Egg Hunt
DESCRIPTION:Registration begins at the Larson Shelter in Centennial Park\, and the hunt will begin at 1:15 pm.  This is a FREE event for ages 0-8 and all participants will receive an Easter Bucket full of goodies!
URL:https://repfritts.com/event/coloma-township-park-district-easter-egg-hunt/
LOCATION:Centennial Park\, 508 East 11th Street\, Rock Falls\, IL\, United States
CATEGORIES:Community Calendar
END:VEVENT
END:VCALENDAR