BEGIN:VCALENDAR
VERSION:2.0
PRODID:-//Bradley Fritts - ECPv6.15.16//NONSGML v1.0//EN
CALSCALE:GREGORIAN
METHOD:PUBLISH
X-WR-CALNAME:Bradley Fritts
X-ORIGINAL-URL:https://repfritts.com
X-WR-CALDESC:Events for Bradley Fritts
REFRESH-INTERVAL;VALUE=DURATION:PT1H
X-Robots-Tag:noindex
X-PUBLISHED-TTL:PT1H
BEGIN:VTIMEZONE
TZID:America/Chicago
BEGIN:DAYLIGHT
TZOFFSETFROM:-0600
TZOFFSETTO:-0500
TZNAME:CDT
DTSTART:20240310T080000
END:DAYLIGHT
BEGIN:STANDARD
TZOFFSETFROM:-0500
TZOFFSETTO:-0600
TZNAME:CST
DTSTART:20241103T070000
END:STANDARD
BEGIN:DAYLIGHT
TZOFFSETFROM:-0600
TZOFFSETTO:-0500
TZNAME:CDT
DTSTART:20250309T080000
END:DAYLIGHT
BEGIN:STANDARD
TZOFFSETFROM:-0500
TZOFFSETTO:-0600
TZNAME:CST
DTSTART:20251102T070000
END:STANDARD
BEGIN:DAYLIGHT
TZOFFSETFROM:-0600
TZOFFSETTO:-0500
TZNAME:CDT
DTSTART:20260308T080000
END:DAYLIGHT
BEGIN:STANDARD
TZOFFSETFROM:-0500
TZOFFSETTO:-0600
TZNAME:CST
DTSTART:20261101T070000
END:STANDARD
END:VTIMEZONE
BEGIN:VEVENT
DTSTART;TZID=America/Chicago:20250503T080000
DTEND;TZID=America/Chicago:20250503T120000
DTSTAMP:20260420T091736
CREATED:20250331T160840Z
LAST-MODIFIED:20250331T160840Z
UID:2966-1746259200-1746273600@repfritts.com
SUMMARY:Twin City Farmers Market
DESCRIPTION:Visit Sauk Valley’s only year-round indoor farmers market!
URL:https://repfritts.com/event/twin-city-farmers-market-9/
LOCATION:Twin City Farmers Market\, 106 Avenue A\, Sterling\, IL\, United States
CATEGORIES:Community Calendar
END:VEVENT
BEGIN:VEVENT
DTSTART;TZID=America/Chicago:20250503T080000
DTEND;TZID=America/Chicago:20250503T170000
DTSTAMP:20260420T091736
CREATED:20250428T182618Z
LAST-MODIFIED:20250428T182618Z
UID:3114-1746259200-1746291600@repfritts.com
SUMMARY:Mendota YMCA Golf Tournament
DESCRIPTION:4 player scramble\, 21 and over: Cash prizes – $50 individual and $200 per Foursome.   \n21 and under: Prizes and awards $35 per individual and $140 Foursome.   \nRegister at Medota YMCA or call 815-538-2900
URL:https://repfritts.com/event/mendota-ymca-golf-tournament/
LOCATION:Mendota Golf Club\, 35666 Walter Payton Memorial Highway West\, Mendota\, IL\, United States
CATEGORIES:Community Calendar
END:VEVENT
END:VCALENDAR