BEGIN:VCALENDAR
VERSION:2.0
PRODID:-//Bradley Fritts - ECPv6.15.16//NONSGML v1.0//EN
CALSCALE:GREGORIAN
METHOD:PUBLISH
X-WR-CALNAME:Bradley Fritts
X-ORIGINAL-URL:https://repfritts.com
X-WR-CALDESC:Events for Bradley Fritts
REFRESH-INTERVAL;VALUE=DURATION:PT1H
X-Robots-Tag:noindex
X-PUBLISHED-TTL:PT1H
BEGIN:VTIMEZONE
TZID:America/Chicago
BEGIN:DAYLIGHT
TZOFFSETFROM:-0600
TZOFFSETTO:-0500
TZNAME:CDT
DTSTART:20240310T080000
END:DAYLIGHT
BEGIN:STANDARD
TZOFFSETFROM:-0500
TZOFFSETTO:-0600
TZNAME:CST
DTSTART:20241103T070000
END:STANDARD
BEGIN:DAYLIGHT
TZOFFSETFROM:-0600
TZOFFSETTO:-0500
TZNAME:CDT
DTSTART:20250309T080000
END:DAYLIGHT
BEGIN:STANDARD
TZOFFSETFROM:-0500
TZOFFSETTO:-0600
TZNAME:CST
DTSTART:20251102T070000
END:STANDARD
BEGIN:DAYLIGHT
TZOFFSETFROM:-0600
TZOFFSETTO:-0500
TZNAME:CDT
DTSTART:20260308T080000
END:DAYLIGHT
BEGIN:STANDARD
TZOFFSETFROM:-0500
TZOFFSETTO:-0600
TZNAME:CST
DTSTART:20261101T070000
END:STANDARD
END:VTIMEZONE
BEGIN:VEVENT
DTSTART;TZID=America/Chicago:20250513T160000
DTEND;TZID=America/Chicago:20250513T180000
DTSTAMP:20260420T091736
CREATED:20250423T231249Z
LAST-MODIFIED:20250428T182046Z
UID:3083-1747152000-1747159200@repfritts.com
SUMMARY:Rx Drop Off Drive
DESCRIPTION:Rep. Fritts is partnering with the Mendota Chamber of Commerce\, City of Mendota\, and Mendota Police Department to host a Rx Drop Off Drive. \nThis is an outdoor event that allows you to dispose of unused\, unwanted\, or expired medications while remaining in your vehicle. Drivers should follow the marked lanes when entering and exiting the parking lot. Brochures on state programs will also be available. If this event does not work for you\, please stay tuned to my website at RepFritts.com for future Rx Drop Off Drives. \nAccepted Medications \n\nTablets\, capsules\, and other solid forms of prescription drugs\nPatches\nVaping devices and cartridges (lithium batteries removed)\nPet Medications\n\nRestricted Items \n\nLiquids (including intravenous solutions)\nSyringes\nNeedles
URL:https://repfritts.com/event/rx-drop-off-drive/
LOCATION:Mendota Civic Center\, 1901 Tom Merwin Drive\, Mendota\, IL\, United States
CATEGORIES:Community Calendar,Rep. Fritts Calendar
ATTACH;FMTTYPE=image/png:https://repfritts.com/wp-content/uploads/sites/64/2025/04/fritts-rx-web-flyer-051325.png
END:VEVENT
END:VCALENDAR