BEGIN:VCALENDAR
VERSION:2.0
PRODID:-//Bradley Fritts - ECPv6.15.16//NONSGML v1.0//EN
CALSCALE:GREGORIAN
METHOD:PUBLISH
X-ORIGINAL-URL:https://repfritts.com
X-WR-CALDESC:Events for Bradley Fritts
REFRESH-INTERVAL;VALUE=DURATION:PT1H
X-Robots-Tag:noindex
X-PUBLISHED-TTL:PT1H
BEGIN:VTIMEZONE
TZID:America/Chicago
BEGIN:DAYLIGHT
TZOFFSETFROM:-0600
TZOFFSETTO:-0500
TZNAME:CDT
DTSTART:20240310T080000
END:DAYLIGHT
BEGIN:STANDARD
TZOFFSETFROM:-0500
TZOFFSETTO:-0600
TZNAME:CST
DTSTART:20241103T070000
END:STANDARD
BEGIN:DAYLIGHT
TZOFFSETFROM:-0600
TZOFFSETTO:-0500
TZNAME:CDT
DTSTART:20250309T080000
END:DAYLIGHT
BEGIN:STANDARD
TZOFFSETFROM:-0500
TZOFFSETTO:-0600
TZNAME:CST
DTSTART:20251102T070000
END:STANDARD
BEGIN:DAYLIGHT
TZOFFSETFROM:-0600
TZOFFSETTO:-0500
TZNAME:CDT
DTSTART:20260308T080000
END:DAYLIGHT
BEGIN:STANDARD
TZOFFSETFROM:-0500
TZOFFSETTO:-0600
TZNAME:CST
DTSTART:20261101T070000
END:STANDARD
END:VTIMEZONE
BEGIN:VEVENT
DTSTART;TZID=America/Chicago:20250604T080000
DTEND;TZID=America/Chicago:20250604T100000
DTSTAMP:20260420T074720
CREATED:20250520T144249Z
LAST-MODIFIED:20250520T144249Z
UID:3169-1749024000-1749031200@repfritts.com
SUMMARY:Coffee & Conversation - Franklin Grove
DESCRIPTION:State Representative Brad Fritts is hosting an upcoming Coffee & Conversation event in Franklin Grove. Stop by to chat\, or share your comments\, questions\, or concerns. This event is a part of Rep. Fritts’ 2025 Summer Tour.
URL:https://repfritts.com/event/coffee-conversation-franklin-grove-2/
LOCATION:Lincoln Way Cafe\, 137 N. Elm Street\, Franklin Grove\, IL\, United States
CATEGORIES:Community Calendar,Rep. Fritts Calendar
ATTACH;FMTTYPE=image/png:https://repfritts.com/wp-content/uploads/sites/64/2025/05/Fritts-Summer-Tour-JUNE-4-Events-01.png
END:VEVENT
BEGIN:VEVENT
DTSTART;TZID=America/Chicago:20250604T180000
DTEND;TZID=America/Chicago:20250604T190000
DTSTAMP:20260420T074720
CREATED:20250520T144819Z
LAST-MODIFIED:20250520T144819Z
UID:3178-1749060000-1749063600@repfritts.com
SUMMARY:Town Hall - Waterman
DESCRIPTION:State Representative Brad Fritts is hosting an upcoming Town Hall Event in Waterman. Stop by for a legislative update or to share your comments\, questions\, or concerns. This event is a part of Rep. Fritts’ 2025 Summer Tour.
URL:https://repfritts.com/event/town-hall-waterman/
LOCATION:Clinton Township Community Center\, 160 W. Lincoln Highway\, Waterman\, IL\, United States
CATEGORIES:Community Calendar,Rep. Fritts Calendar
ATTACH;FMTTYPE=image/png:https://repfritts.com/wp-content/uploads/sites/64/2025/05/Fritts-Summer-Tour-JUNE-4-Events-01.png
END:VEVENT
END:VCALENDAR