BEGIN:VCALENDAR
VERSION:2.0
PRODID:-//Bradley Fritts - ECPv6.15.16//NONSGML v1.0//EN
CALSCALE:GREGORIAN
METHOD:PUBLISH
X-WR-CALNAME:Bradley Fritts
X-ORIGINAL-URL:https://repfritts.com
X-WR-CALDESC:Events for Bradley Fritts
REFRESH-INTERVAL;VALUE=DURATION:PT1H
X-Robots-Tag:noindex
X-PUBLISHED-TTL:PT1H
BEGIN:VTIMEZONE
TZID:America/Chicago
BEGIN:DAYLIGHT
TZOFFSETFROM:-0600
TZOFFSETTO:-0500
TZNAME:CDT
DTSTART:20240310T080000
END:DAYLIGHT
BEGIN:STANDARD
TZOFFSETFROM:-0500
TZOFFSETTO:-0600
TZNAME:CST
DTSTART:20241103T070000
END:STANDARD
BEGIN:DAYLIGHT
TZOFFSETFROM:-0600
TZOFFSETTO:-0500
TZNAME:CDT
DTSTART:20250309T080000
END:DAYLIGHT
BEGIN:STANDARD
TZOFFSETFROM:-0500
TZOFFSETTO:-0600
TZNAME:CST
DTSTART:20251102T070000
END:STANDARD
BEGIN:DAYLIGHT
TZOFFSETFROM:-0600
TZOFFSETTO:-0500
TZNAME:CDT
DTSTART:20260308T080000
END:DAYLIGHT
BEGIN:STANDARD
TZOFFSETFROM:-0500
TZOFFSETTO:-0600
TZNAME:CST
DTSTART:20261101T070000
END:STANDARD
END:VTIMEZONE
BEGIN:VEVENT
DTSTART;TZID=America/Chicago:20250607T090000
DTEND;TZID=America/Chicago:20250607T110000
DTSTAMP:20260420T074459
CREATED:20250521T181131Z
LAST-MODIFIED:20250521T181131Z
UID:3218-1749286800-1749294000@repfritts.com
SUMMARY:Shred Event
DESCRIPTION:The Office of State Representative Brad Fritts is partnering with Self Help Enterprises in Sterling for an upcoming Shred Event on Saturday\, June 7th\, from 9:00 AM to 11:00 AM. All constituents are invited to utilize this opportunity to safely and confidentially dispose of any documents they may have from the comfort of their car!\n\n\n\nParticipants should follow all directions when entering the parking lot. This is a drive-up event\, but participants may exit their vehicles to watch the shredding. Only residential paper documents without paper clips will be accepted.
URL:https://repfritts.com/event/shred-event-2/
LOCATION:Self Help Enterprises\, 2300 W Le Fevre Road\, Sterling\, IL\, United States
CATEGORIES:Community Calendar,Rep. Fritts Calendar
ATTACH;FMTTYPE=image/png:https://repfritts.com/wp-content/uploads/sites/64/2025/05/fritts-shred-wg-2025.png
END:VEVENT
END:VCALENDAR