BEGIN:VCALENDAR
VERSION:2.0
PRODID:-//Bradley Fritts - ECPv6.15.16//NONSGML v1.0//EN
CALSCALE:GREGORIAN
METHOD:PUBLISH
X-ORIGINAL-URL:https://repfritts.com
X-WR-CALDESC:Events for Bradley Fritts
REFRESH-INTERVAL;VALUE=DURATION:PT1H
X-Robots-Tag:noindex
X-PUBLISHED-TTL:PT1H
BEGIN:VTIMEZONE
TZID:America/Chicago
BEGIN:DAYLIGHT
TZOFFSETFROM:-0600
TZOFFSETTO:-0500
TZNAME:CDT
DTSTART:20240310T080000
END:DAYLIGHT
BEGIN:STANDARD
TZOFFSETFROM:-0500
TZOFFSETTO:-0600
TZNAME:CST
DTSTART:20241103T070000
END:STANDARD
BEGIN:DAYLIGHT
TZOFFSETFROM:-0600
TZOFFSETTO:-0500
TZNAME:CDT
DTSTART:20250309T080000
END:DAYLIGHT
BEGIN:STANDARD
TZOFFSETFROM:-0500
TZOFFSETTO:-0600
TZNAME:CST
DTSTART:20251102T070000
END:STANDARD
BEGIN:DAYLIGHT
TZOFFSETFROM:-0600
TZOFFSETTO:-0500
TZNAME:CDT
DTSTART:20260308T080000
END:DAYLIGHT
BEGIN:STANDARD
TZOFFSETFROM:-0500
TZOFFSETTO:-0600
TZNAME:CST
DTSTART:20261101T070000
END:STANDARD
END:VTIMEZONE
BEGIN:VEVENT
DTSTART;TZID=America/Chicago:20250614T073000
DTEND;TZID=America/Chicago:20250614T203000
DTSTAMP:20260420T080345
CREATED:20250612T184119Z
LAST-MODIFIED:20250612T184119Z
UID:3296-1749886200-1749933000@repfritts.com
SUMMARY:The Gordon Lightfoot Tribute
DESCRIPTION:This tribute captures the timeless magic of Lightfoot’s legendary folk and storytelling music.
URL:https://repfritts.com/event/the-gordon-lightfoot-tribute/
LOCATION:Dixon Historic Theater\, 114 South Galena Avenue\, Dixon\, IL\, United States
CATEGORIES:Community Calendar
END:VEVENT
BEGIN:VEVENT
DTSTART;TZID=America/Chicago:20250614T100000
DTEND;TZID=America/Chicago:20250614T150000
DTSTAMP:20260420T080345
CREATED:20250612T182611Z
LAST-MODIFIED:20250612T182611Z
UID:3266-1749895200-1749913200@repfritts.com
SUMMARY:Railroad Heritage Day
DESCRIPTION:Enjoy history-focused activities and exhibits for people of all ages. 
URL:https://repfritts.com/event/railroad-heritage-day/
LOCATION:Union Depot Railroad Museum\, 783 Main Street\, Mendota\, IL\, United States
CATEGORIES:Community Calendar
END:VEVENT
BEGIN:VEVENT
DTSTART;TZID=America/Chicago:20250614T110000
DTEND;TZID=America/Chicago:20250614T150000
DTSTAMP:20260420T080345
CREATED:20250612T185142Z
LAST-MODIFIED:20250612T185142Z
UID:3304-1749898800-1749913200@repfritts.com
SUMMARY:Touch a Truck Fundraiser
DESCRIPTION:Fun and games as well as food and drink for purchase. All proceeds go to the Children’s Miracle Network.
URL:https://repfritts.com/event/touch-a-truck-fundraiser/
LOCATION:Sterling Walmart Parking Lot\, 4115 E Lincolnway\, Sterling\, IL\, United States
CATEGORIES:Community Calendar
END:VEVENT
BEGIN:VEVENT
DTSTART;TZID=America/Chicago:20250614T170000
DTEND;TZID=America/Chicago:20250614T213000
DTSTAMP:20260420T080345
CREATED:20250612T182715Z
LAST-MODIFIED:20250612T182745Z
UID:3270-1749920400-1749936600@repfritts.com
SUMMARY:Relay for Life
DESCRIPTION:Celebrate and Support Survivors by attending Relay For Life
URL:https://repfritts.com/event/relay-for-life/
LOCATION:Westwood Fitness and Sports Center Building 3\, 1900 Westwood Drive\, Sterling\, IL\, United States
CATEGORIES:Community Calendar
END:VEVENT
END:VCALENDAR