BEGIN:VCALENDAR
VERSION:2.0
PRODID:-//Bradley Fritts - ECPv6.15.16//NONSGML v1.0//EN
CALSCALE:GREGORIAN
METHOD:PUBLISH
X-ORIGINAL-URL:https://repfritts.com
X-WR-CALDESC:Events for Bradley Fritts
REFRESH-INTERVAL;VALUE=DURATION:PT1H
X-Robots-Tag:noindex
X-PUBLISHED-TTL:PT1H
BEGIN:VTIMEZONE
TZID:America/Chicago
BEGIN:DAYLIGHT
TZOFFSETFROM:-0600
TZOFFSETTO:-0500
TZNAME:CDT
DTSTART:20240310T080000
END:DAYLIGHT
BEGIN:STANDARD
TZOFFSETFROM:-0500
TZOFFSETTO:-0600
TZNAME:CST
DTSTART:20241103T070000
END:STANDARD
BEGIN:DAYLIGHT
TZOFFSETFROM:-0600
TZOFFSETTO:-0500
TZNAME:CDT
DTSTART:20250309T080000
END:DAYLIGHT
BEGIN:STANDARD
TZOFFSETFROM:-0500
TZOFFSETTO:-0600
TZNAME:CST
DTSTART:20251102T070000
END:STANDARD
BEGIN:DAYLIGHT
TZOFFSETFROM:-0600
TZOFFSETTO:-0500
TZNAME:CDT
DTSTART:20260308T080000
END:DAYLIGHT
BEGIN:STANDARD
TZOFFSETFROM:-0500
TZOFFSETTO:-0600
TZNAME:CST
DTSTART:20261101T070000
END:STANDARD
END:VTIMEZONE
BEGIN:VEVENT
DTSTART;TZID=America/Chicago:20250621T080000
DTEND;TZID=America/Chicago:20250621T110000
DTSTAMP:20260420T074809
CREATED:20250612T183635Z
LAST-MODIFIED:20250612T183635Z
UID:3284-1750492800-1750503600@repfritts.com
SUMMARY:Annual Shabbona Electronics Recycling 
DESCRIPTION:Annual Village of Shabbona electronics recycling.  Please bring ID for proof of residency.
URL:https://repfritts.com/event/annual-shabbona-electronics-recycling/
LOCATION:Village Public Works Building\, 206 S. Blackhawk Street\, IL\, United States
CATEGORIES:Community Calendar
END:VEVENT
BEGIN:VEVENT
DTSTART;TZID=America/Chicago:20250621T090000
DTEND;TZID=America/Chicago:20250621T120000
DTSTAMP:20260420T074809
CREATED:20250612T183223Z
LAST-MODIFIED:20250612T183223Z
UID:3276-1750496400-1750507200@repfritts.com
SUMMARY:Dekalb County Recycling Event
DESCRIPTION:Residents within city limits of Dekalb are encouraged to utilize the E-Waste Collection Services. Call 815-748-2408 if you have any questions.
URL:https://repfritts.com/event/dekalb-county-recycling-event/
LOCATION:Taylor Municipal Airport\, 2200 Pleasant Street\, Dekalb\, IL\, United States
CATEGORIES:Community Calendar
END:VEVENT
BEGIN:VEVENT
DTSTART;TZID=America/Chicago:20250621T110000
DTEND;TZID=America/Chicago:20250621T190000
DTSTAMP:20260420T074809
CREATED:20250612T183038Z
LAST-MODIFIED:20250612T183038Z
UID:3273-1750503600-1750532400@repfritts.com
SUMMARY:Summer Splash - Free Family Fun!
DESCRIPTION:Something for everyone- vendors\, food trucks\, bison burger cookout\, free activities and more!
URL:https://repfritts.com/event/summer-splash-free-family-fun/
LOCATION:RB and W Park\, 210 E. 2nd Street\, Rock Falls\, IL\, United States
CATEGORIES:Community Calendar
END:VEVENT
END:VCALENDAR