BEGIN:VCALENDAR
VERSION:2.0
PRODID:-//Bradley Fritts - ECPv6.15.16//NONSGML v1.0//EN
CALSCALE:GREGORIAN
METHOD:PUBLISH
X-ORIGINAL-URL:https://repfritts.com
X-WR-CALDESC:Events for Bradley Fritts
REFRESH-INTERVAL;VALUE=DURATION:PT1H
X-Robots-Tag:noindex
X-PUBLISHED-TTL:PT1H
BEGIN:VTIMEZONE
TZID:America/Chicago
BEGIN:DAYLIGHT
TZOFFSETFROM:-0600
TZOFFSETTO:-0500
TZNAME:CDT
DTSTART:20240310T080000
END:DAYLIGHT
BEGIN:STANDARD
TZOFFSETFROM:-0500
TZOFFSETTO:-0600
TZNAME:CST
DTSTART:20241103T070000
END:STANDARD
BEGIN:DAYLIGHT
TZOFFSETFROM:-0600
TZOFFSETTO:-0500
TZNAME:CDT
DTSTART:20250309T080000
END:DAYLIGHT
BEGIN:STANDARD
TZOFFSETFROM:-0500
TZOFFSETTO:-0600
TZNAME:CST
DTSTART:20251102T070000
END:STANDARD
BEGIN:DAYLIGHT
TZOFFSETFROM:-0600
TZOFFSETTO:-0500
TZNAME:CDT
DTSTART:20260308T080000
END:DAYLIGHT
BEGIN:STANDARD
TZOFFSETFROM:-0500
TZOFFSETTO:-0600
TZNAME:CST
DTSTART:20261101T070000
END:STANDARD
END:VTIMEZONE
BEGIN:VEVENT
DTSTART;TZID=America/Chicago:20250702T080000
DTEND;TZID=America/Chicago:20250702T100000
DTSTAMP:20260420T061927
CREATED:20250624T184137Z
LAST-MODIFIED:20250624T184137Z
UID:3341-1751443200-1751450400@repfritts.com
SUMMARY:Coffee & Conversation –  Amboy
DESCRIPTION:Join Rep. Fritts for a Coffee & Conversation Event on Wednesday\, July 2nd from 8:00 AM to 10:00 AM at Sunset Inn Restaurant in Amboy! Stop by to share your comments\, questions\, and concerns.
URL:https://repfritts.com/event/coffee-conversation-amboy-3/
LOCATION:Sunset Inn Restaurant\, 1578 US-30\, Amboy\, IL\, United States
CATEGORIES:Community Calendar,Rep. Fritts Calendar
ATTACH;FMTTYPE=image/png:https://repfritts.com/wp-content/uploads/sites/64/2025/06/Fritts-Summer-Tour-JULY-2-Events-01.png
END:VEVENT
BEGIN:VEVENT
DTSTART;TZID=America/Chicago:20250702T180000
DTEND;TZID=America/Chicago:20250702T190000
DTSTAMP:20260420T061927
CREATED:20250624T184352Z
LAST-MODIFIED:20250624T184352Z
UID:3343-1751479200-1751482800@repfritts.com
SUMMARY:Town Hall Event – Morrison
DESCRIPTION:Join Rep. Fritts for a Town Hall Event on Wednesday\, July 2nd from 6:00 PM to 7:00 PM at the Odell Public Library! Stop by for a legislative update or to share your comments\, questions\, and concerns.
URL:https://repfritts.com/event/town-hall-event-morrison/
LOCATION:Odell Public Library\, 307 S. Madison Street\, Morrison\, IL\, United States
CATEGORIES:Community Calendar,Rep. Fritts Calendar
ATTACH;FMTTYPE=image/png:https://repfritts.com/wp-content/uploads/sites/64/2025/06/Fritts-Summer-Tour-JULY-2-Events-01.png
END:VEVENT
END:VCALENDAR