BEGIN:VCALENDAR
VERSION:2.0
PRODID:-//Bradley Fritts - ECPv6.15.16//NONSGML v1.0//EN
CALSCALE:GREGORIAN
METHOD:PUBLISH
X-ORIGINAL-URL:https://repfritts.com
X-WR-CALDESC:Events for Bradley Fritts
REFRESH-INTERVAL;VALUE=DURATION:PT1H
X-Robots-Tag:noindex
X-PUBLISHED-TTL:PT1H
BEGIN:VTIMEZONE
TZID:America/Chicago
BEGIN:DAYLIGHT
TZOFFSETFROM:-0600
TZOFFSETTO:-0500
TZNAME:CDT
DTSTART:20240310T080000
END:DAYLIGHT
BEGIN:STANDARD
TZOFFSETFROM:-0500
TZOFFSETTO:-0600
TZNAME:CST
DTSTART:20241103T070000
END:STANDARD
BEGIN:DAYLIGHT
TZOFFSETFROM:-0600
TZOFFSETTO:-0500
TZNAME:CDT
DTSTART:20250309T080000
END:DAYLIGHT
BEGIN:STANDARD
TZOFFSETFROM:-0500
TZOFFSETTO:-0600
TZNAME:CST
DTSTART:20251102T070000
END:STANDARD
BEGIN:DAYLIGHT
TZOFFSETFROM:-0600
TZOFFSETTO:-0500
TZNAME:CDT
DTSTART:20260308T080000
END:DAYLIGHT
BEGIN:STANDARD
TZOFFSETFROM:-0500
TZOFFSETTO:-0600
TZNAME:CST
DTSTART:20261101T070000
END:STANDARD
END:VTIMEZONE
BEGIN:VEVENT
DTSTART;TZID=America/Chicago:20250716T080000
DTEND;TZID=America/Chicago:20250716T100000
DTSTAMP:20260420T061807
CREATED:20250624T191839Z
LAST-MODIFIED:20250722T165604Z
UID:3368-1752652800-1752660000@repfritts.com
SUMMARY:Coffee & Conversation – Ashton
DESCRIPTION:Join Rep. Fritts for a Coffee & Conversation Event on Wednesday\, July 16th from 8:00 AM to 10:00 AM at The Huddle Cafe in Ashton! Stop by to share your comments\, questions\, and concerns.
URL:https://repfritts.com/event/rep-fritts-hosts-coffee-conversation-ashton/
LOCATION:The Huddle Cafe\, 802 Main Street\, Ashton\, IL\, United States
CATEGORIES:Community Calendar,Rep. Fritts Calendar
ATTACH;FMTTYPE=image/png:https://repfritts.com/wp-content/uploads/sites/64/2025/06/Fritts-Summer-Tour-JULY-16-Events-01.png
END:VEVENT
BEGIN:VEVENT
DTSTART;TZID=America/Chicago:20250716T180000
DTEND;TZID=America/Chicago:20250716T190000
DTSTAMP:20260420T061807
CREATED:20250624T192144Z
LAST-MODIFIED:20250722T165557Z
UID:3377-1752688800-1752692400@repfritts.com
SUMMARY:Town Hall – Paw Paw
DESCRIPTION:Join Rep. Fritts for a Town Hall Event on Wednesday\, July 16th from 6:00 PM to 7:00 PM at the Paw Paw Community Center! Stop by for a legislative update or to share your comments\, questions\, and concerns.
URL:https://repfritts.com/event/rep-fritts-hosts-town-hall-event-paw-paw/
LOCATION:Paw Paw Community Center\, 362 Chicago Road\, Paw Paw\, IL\, United States
CATEGORIES:Community Calendar,Rep. Fritts Calendar
ATTACH;FMTTYPE=image/png:https://repfritts.com/wp-content/uploads/sites/64/2025/06/Fritts-Summer-Tour-JULY-16-Events-01.png
END:VEVENT
END:VCALENDAR