BEGIN:VCALENDAR
VERSION:2.0
PRODID:-//Bradley Fritts - ECPv6.15.16//NONSGML v1.0//EN
CALSCALE:GREGORIAN
METHOD:PUBLISH
X-WR-CALNAME:Bradley Fritts
X-ORIGINAL-URL:https://repfritts.com
X-WR-CALDESC:Events for Bradley Fritts
REFRESH-INTERVAL;VALUE=DURATION:PT1H
X-Robots-Tag:noindex
X-PUBLISHED-TTL:PT1H
BEGIN:VTIMEZONE
TZID:America/Chicago
BEGIN:DAYLIGHT
TZOFFSETFROM:-0600
TZOFFSETTO:-0500
TZNAME:CDT
DTSTART:20240310T080000
END:DAYLIGHT
BEGIN:STANDARD
TZOFFSETFROM:-0500
TZOFFSETTO:-0600
TZNAME:CST
DTSTART:20241103T070000
END:STANDARD
BEGIN:DAYLIGHT
TZOFFSETFROM:-0600
TZOFFSETTO:-0500
TZNAME:CDT
DTSTART:20250309T080000
END:DAYLIGHT
BEGIN:STANDARD
TZOFFSETFROM:-0500
TZOFFSETTO:-0600
TZNAME:CST
DTSTART:20251102T070000
END:STANDARD
BEGIN:DAYLIGHT
TZOFFSETFROM:-0600
TZOFFSETTO:-0500
TZNAME:CDT
DTSTART:20260308T080000
END:DAYLIGHT
BEGIN:STANDARD
TZOFFSETFROM:-0500
TZOFFSETTO:-0600
TZNAME:CST
DTSTART:20261101T070000
END:STANDARD
END:VTIMEZONE
BEGIN:VEVENT
DTSTART;TZID=America/Chicago:20250719T070000
DTEND;TZID=America/Chicago:20250719T120000
DTSTAMP:20260420T061756
CREATED:20250717T140813Z
LAST-MODIFIED:20250717T140813Z
UID:3464-1752908400-1752926400@repfritts.com
SUMMARY:Christmas in July
DESCRIPTION:Join Dixon Farmer’s Market and shop with 45+ vendors\, beat the heat with Kona Ice and Main Squeeze\, listen to festive tunes by Nichole Miller and Rosebrook Hall\, and decorate your own Christmas ornament!
URL:https://repfritts.com/event/christmas-in-july/
LOCATION:Haymarket Square\, 317 W 3rd Street\, Dixon\, IL\, United States
CATEGORIES:Community Calendar
END:VEVENT
BEGIN:VEVENT
DTSTART;TZID=America/Chicago:20250719T193000
DTEND;TZID=America/Chicago:20250719T220000
DTSTAMP:20260420T061756
CREATED:20250717T140910Z
LAST-MODIFIED:20250717T140932Z
UID:3468-1752953400-1752962400@repfritts.com
SUMMARY:The 4 C Notes
DESCRIPTION:The 4 C Notes is the Midwest’s only tribute group dedicated to recreating the iconic sound of Frankie Valli and The Four Seasons\, founded by John Michael Coppola of Jersey Boys fame. Their high-energy 90-minute show features classic hits and vintage style\, delivering an authentic experience unmatched by other tribute acts. Tickets here.
URL:https://repfritts.com/event/the-4-c-notes/
LOCATION:Dixon Historic Theater\, 114 South Galena Avenue\, Dixon\, IL\, United States
CATEGORIES:Community Calendar
END:VEVENT
END:VCALENDAR