BEGIN:VCALENDAR
VERSION:2.0
PRODID:-//Bradley Fritts - ECPv6.15.16//NONSGML v1.0//EN
CALSCALE:GREGORIAN
METHOD:PUBLISH
X-WR-CALNAME:Bradley Fritts
X-ORIGINAL-URL:https://repfritts.com
X-WR-CALDESC:Events for Bradley Fritts
REFRESH-INTERVAL;VALUE=DURATION:PT1H
X-Robots-Tag:noindex
X-PUBLISHED-TTL:PT1H
BEGIN:VTIMEZONE
TZID:America/Chicago
BEGIN:DAYLIGHT
TZOFFSETFROM:-0600
TZOFFSETTO:-0500
TZNAME:CDT
DTSTART:20240310T080000
END:DAYLIGHT
BEGIN:STANDARD
TZOFFSETFROM:-0500
TZOFFSETTO:-0600
TZNAME:CST
DTSTART:20241103T070000
END:STANDARD
BEGIN:DAYLIGHT
TZOFFSETFROM:-0600
TZOFFSETTO:-0500
TZNAME:CDT
DTSTART:20250309T080000
END:DAYLIGHT
BEGIN:STANDARD
TZOFFSETFROM:-0500
TZOFFSETTO:-0600
TZNAME:CST
DTSTART:20251102T070000
END:STANDARD
BEGIN:DAYLIGHT
TZOFFSETFROM:-0600
TZOFFSETTO:-0500
TZNAME:CDT
DTSTART:20260308T080000
END:DAYLIGHT
BEGIN:STANDARD
TZOFFSETFROM:-0500
TZOFFSETTO:-0600
TZNAME:CST
DTSTART:20261101T070000
END:STANDARD
END:VTIMEZONE
BEGIN:VEVENT
DTSTART;TZID=America/Chicago:20250801T110000
DTEND;TZID=America/Chicago:20250801T140000
DTSTAMP:20260420T043354
CREATED:20250717T141646Z
LAST-MODIFIED:20250717T141646Z
UID:3488-1754046000-1754056800@repfritts.com
SUMMARY:Hot Dog Day
DESCRIPTION:Featuring 25¢ hot dogs\, chips & drinks at various locations throughout the downtown\, along with sidewalk sales\, car wash\, fun fair and more! \nFamily Fun Fair with free activities for kids and families will be at 11:30 – 1:30
URL:https://repfritts.com/event/hot-dog-day/
LOCATION:Sterling Marketplace\, 111 W 2nd Street\, Sterling\, IL\, United States
CATEGORIES:Community Calendar
END:VEVENT
BEGIN:VEVENT
DTSTART;TZID=America/Chicago:20250801T130000
DTEND;TZID=America/Chicago:20250801T180000
DTSTAMP:20260420T043354
CREATED:20250717T141520Z
LAST-MODIFIED:20250717T141520Z
UID:3484-1754053200-1754071200@repfritts.com
SUMMARY:Lost Lake Community Blood Drive
DESCRIPTION:Join us for a Red Cross Blood Drive and help save lives—your donation can make a life-changing difference for patients in need. Every pint counts\, and your generosity matters!
URL:https://repfritts.com/event/lost-lake-community-blood-drive/
LOCATION:Lost Lake Community Room\, 404 Lake Court\, Dixon\, IL\, United States
CATEGORIES:Community Calendar
END:VEVENT
END:VCALENDAR