BEGIN:VCALENDAR
VERSION:2.0
PRODID:-//Bradley Fritts - ECPv6.15.16//NONSGML v1.0//EN
CALSCALE:GREGORIAN
METHOD:PUBLISH
X-WR-CALNAME:Bradley Fritts
X-ORIGINAL-URL:https://repfritts.com
X-WR-CALDESC:Events for Bradley Fritts
REFRESH-INTERVAL;VALUE=DURATION:PT1H
X-Robots-Tag:noindex
X-PUBLISHED-TTL:PT1H
BEGIN:VTIMEZONE
TZID:America/Chicago
BEGIN:DAYLIGHT
TZOFFSETFROM:-0600
TZOFFSETTO:-0500
TZNAME:CDT
DTSTART:20240310T080000
END:DAYLIGHT
BEGIN:STANDARD
TZOFFSETFROM:-0500
TZOFFSETTO:-0600
TZNAME:CST
DTSTART:20241103T070000
END:STANDARD
BEGIN:DAYLIGHT
TZOFFSETFROM:-0600
TZOFFSETTO:-0500
TZNAME:CDT
DTSTART:20250309T080000
END:DAYLIGHT
BEGIN:STANDARD
TZOFFSETFROM:-0500
TZOFFSETTO:-0600
TZNAME:CST
DTSTART:20251102T070000
END:STANDARD
BEGIN:DAYLIGHT
TZOFFSETFROM:-0600
TZOFFSETTO:-0500
TZNAME:CDT
DTSTART:20260308T080000
END:DAYLIGHT
BEGIN:STANDARD
TZOFFSETFROM:-0500
TZOFFSETTO:-0600
TZNAME:CST
DTSTART:20261101T070000
END:STANDARD
END:VTIMEZONE
BEGIN:VEVENT
DTSTART;TZID=America/Chicago:20250830T080000
DTEND;TZID=America/Chicago:20250830T120000
DTSTAMP:20260420T043354
CREATED:20250717T142208Z
LAST-MODIFIED:20250717T142208Z
UID:3501-1756540800-1756555200@repfritts.com
SUMMARY:Mendota Farmers Market
DESCRIPTION:Locally grown fruits and vegetables\, homemade baked goods\, honey and jam\, flowers and plants
URL:https://repfritts.com/event/mendota-farmers-market-5/
LOCATION:Downtown Main Street\, 700 Main Street\, Mendota\, IL\, United States
CATEGORIES:Community Calendar
END:VEVENT
BEGIN:VEVENT
DTSTART;TZID=America/Chicago:20250830T080000
DTEND;TZID=America/Chicago:20250830T120000
DTSTAMP:20260420T043354
CREATED:20250717T142651Z
LAST-MODIFIED:20250717T142651Z
UID:3512-1756540800-1756555200@repfritts.com
SUMMARY:Twin Cities Farmers Market
DESCRIPTION:Come visit the Twin Cities Farmer’s Market to buy from local farmers\, artisans\, and vendors selling fresh produce\, homemade goods\, and handcrafted items. It is a great way to support small businesses while enjoying seasonal\, locally sourced products.
URL:https://repfritts.com/event/twin-cities-farmers-market-5/
LOCATION:Twin City Farmers Market\, 106 Avenue A\, Sterling\, IL\, United States
CATEGORIES:Community Calendar
END:VEVENT
BEGIN:VEVENT
DTSTART;TZID=America/Chicago:20250830T090000
DTEND;TZID=America/Chicago:20250830T130000
DTSTAMP:20260420T043354
CREATED:20250612T184016Z
LAST-MODIFIED:20250612T184016Z
UID:3294-1756544400-1756558800@repfritts.com
SUMMARY:Outdoor Farmer's Market
DESCRIPTION:Local Produce\, Handcrafted Art\, Artisan Bread\, Honey\, Sweets\, and more
URL:https://repfritts.com/event/outdoor-farmers-market-3/
LOCATION:Cypress House\, 718 10th Avenue\, Rochelle\, IL\, United States
CATEGORIES:Community Calendar
END:VEVENT
END:VCALENDAR