BEGIN:VCALENDAR
VERSION:2.0
PRODID:-//Bradley Fritts - ECPv6.15.16//NONSGML v1.0//EN
CALSCALE:GREGORIAN
METHOD:PUBLISH
X-WR-CALNAME:Bradley Fritts
X-ORIGINAL-URL:https://repfritts.com
X-WR-CALDESC:Events for Bradley Fritts
REFRESH-INTERVAL;VALUE=DURATION:PT1H
X-Robots-Tag:noindex
X-PUBLISHED-TTL:PT1H
BEGIN:VTIMEZONE
TZID:America/Chicago
BEGIN:DAYLIGHT
TZOFFSETFROM:-0600
TZOFFSETTO:-0500
TZNAME:CDT
DTSTART:20240310T080000
END:DAYLIGHT
BEGIN:STANDARD
TZOFFSETFROM:-0500
TZOFFSETTO:-0600
TZNAME:CST
DTSTART:20241103T070000
END:STANDARD
BEGIN:DAYLIGHT
TZOFFSETFROM:-0600
TZOFFSETTO:-0500
TZNAME:CDT
DTSTART:20250309T080000
END:DAYLIGHT
BEGIN:STANDARD
TZOFFSETFROM:-0500
TZOFFSETTO:-0600
TZNAME:CST
DTSTART:20251102T070000
END:STANDARD
BEGIN:DAYLIGHT
TZOFFSETFROM:-0600
TZOFFSETTO:-0500
TZNAME:CDT
DTSTART:20260308T080000
END:DAYLIGHT
BEGIN:STANDARD
TZOFFSETFROM:-0500
TZOFFSETTO:-0600
TZNAME:CST
DTSTART:20261101T070000
END:STANDARD
END:VTIMEZONE
BEGIN:VEVENT
DTSTART;TZID=America/Chicago:20250920T070000
DTEND;TZID=America/Chicago:20250920T110000
DTSTAMP:20260420T031028
CREATED:20250828T204604Z
LAST-MODIFIED:20250828T204604Z
UID:3692-1758351600-1758366000@repfritts.com
SUMMARY:Rock Falls Farmers Market
DESCRIPTION:Shop FRESH\, shop LOCAL at the Rock Falls Farmers Market\, open every Wednesday & Saturday\, 7-11am. FANTASTIC finds like local honey\, herbs\, jellies & jam\, fresh produce\, flowers\, plants\, baked goods\, crochet items\, and SO MUCH MORE.
URL:https://repfritts.com/event/rock-falls-farmers-market-32/
LOCATION:Rock Falls Farmers Market\, 400 W. 2nd Street\, Rock Falls\, IL\, United States
CATEGORIES:Community Calendar
END:VEVENT
BEGIN:VEVENT
DTSTART;TZID=America/Chicago:20250920T080000
DTEND;TZID=America/Chicago:20250920T130000
DTSTAMP:20260420T031028
CREATED:20250814T144125Z
LAST-MODIFIED:20250814T144125Z
UID:3600-1758355200-1758373200@repfritts.com
SUMMARY:Hunter Safety Course
DESCRIPTION:State Representative Brad Fritts is hosting an upcoming Hunter Safety Course. The event will be hosted at the Rochelle Wildlife Conservation Club on September 20 and 21 from 8:00 AM to 1:00 PM. BOTH days are required to complete this course. Spots are limited and must be reserved in advance by clicking here.
URL:https://repfritts.com/event/hunter-safety-course-2/
LOCATION:Rochelle Wildlife Conservation Club\, 3501 S. Sweeney Road\, Chana\, IL\, United States
CATEGORIES:Community Calendar,Rep. Fritts Calendar
ATTACH;FMTTYPE=image/png:https://repfritts.com/wp-content/uploads/sites/64/2025/08/Fritts-Hunter-Safety-Course-2025-01.png
END:VEVENT
END:VCALENDAR