BEGIN:VCALENDAR
VERSION:2.0
PRODID:-//Bradley Fritts - ECPv6.15.16//NONSGML v1.0//EN
CALSCALE:GREGORIAN
METHOD:PUBLISH
X-WR-CALNAME:Bradley Fritts
X-ORIGINAL-URL:https://repfritts.com
X-WR-CALDESC:Events for Bradley Fritts
REFRESH-INTERVAL;VALUE=DURATION:PT1H
X-Robots-Tag:noindex
X-PUBLISHED-TTL:PT1H
BEGIN:VTIMEZONE
TZID:America/Chicago
BEGIN:DAYLIGHT
TZOFFSETFROM:-0600
TZOFFSETTO:-0500
TZNAME:CDT
DTSTART:20240310T080000
END:DAYLIGHT
BEGIN:STANDARD
TZOFFSETFROM:-0500
TZOFFSETTO:-0600
TZNAME:CST
DTSTART:20241103T070000
END:STANDARD
BEGIN:DAYLIGHT
TZOFFSETFROM:-0600
TZOFFSETTO:-0500
TZNAME:CDT
DTSTART:20250309T080000
END:DAYLIGHT
BEGIN:STANDARD
TZOFFSETFROM:-0500
TZOFFSETTO:-0600
TZNAME:CST
DTSTART:20251102T070000
END:STANDARD
BEGIN:DAYLIGHT
TZOFFSETFROM:-0600
TZOFFSETTO:-0500
TZNAME:CDT
DTSTART:20260308T080000
END:DAYLIGHT
BEGIN:STANDARD
TZOFFSETFROM:-0500
TZOFFSETTO:-0600
TZNAME:CST
DTSTART:20261101T070000
END:STANDARD
END:VTIMEZONE
BEGIN:VEVENT
DTSTART;TZID=America/Chicago:20250923T180000
DTEND;TZID=America/Chicago:20250923T190000
DTSTAMP:20260420T031028
CREATED:20250828T202623Z
LAST-MODIFIED:20250828T202623Z
UID:3648-1758650400-1758654000@repfritts.com
SUMMARY:“Golden Patch Pumpkins” Paint Night
DESCRIPTION:Paint\, sip\, and sparkle with us at Flight Deck! We’re bringing these shimmery pumpkins to life! tickets
URL:https://repfritts.com/event/golden-patch-pumpkins-paint-night/
LOCATION:The Flight Deck\, 1207 Gurler Road\, Rochelle\, IL\, United States
CATEGORIES:Community Calendar
END:VEVENT
BEGIN:VEVENT
DTSTART;TZID=America/Chicago:20250923T183000
DTEND;TZID=America/Chicago:20250923T200000
DTSTAMP:20260420T031028
CREATED:20250828T203953Z
LAST-MODIFIED:20250828T203953Z
UID:3677-1758652200-1758657600@repfritts.com
SUMMARY:NAMI Sauk Area Family Support Group Meeting
DESCRIPTION:Confidential support for family and friends of people with mental health conditions.
URL:https://repfritts.com/event/nami-sauk-area-family-support-group-meeting-4/
LOCATION:St. Johns Lutheran Church\, 703 3rd Avenue\, Sterling\, IL\, United States
CATEGORIES:Community Calendar
END:VEVENT
END:VCALENDAR