BEGIN:VCALENDAR
VERSION:2.0
PRODID:-//Bradley Fritts - ECPv6.15.16//NONSGML v1.0//EN
CALSCALE:GREGORIAN
METHOD:PUBLISH
X-ORIGINAL-URL:https://repfritts.com
X-WR-CALDESC:Events for Bradley Fritts
REFRESH-INTERVAL;VALUE=DURATION:PT1H
X-Robots-Tag:noindex
X-PUBLISHED-TTL:PT1H
BEGIN:VTIMEZONE
TZID:America/Chicago
BEGIN:DAYLIGHT
TZOFFSETFROM:-0600
TZOFFSETTO:-0500
TZNAME:CDT
DTSTART:20240310T080000
END:DAYLIGHT
BEGIN:STANDARD
TZOFFSETFROM:-0500
TZOFFSETTO:-0600
TZNAME:CST
DTSTART:20241103T070000
END:STANDARD
BEGIN:DAYLIGHT
TZOFFSETFROM:-0600
TZOFFSETTO:-0500
TZNAME:CDT
DTSTART:20250309T080000
END:DAYLIGHT
BEGIN:STANDARD
TZOFFSETFROM:-0500
TZOFFSETTO:-0600
TZNAME:CST
DTSTART:20251102T070000
END:STANDARD
BEGIN:DAYLIGHT
TZOFFSETFROM:-0600
TZOFFSETTO:-0500
TZNAME:CDT
DTSTART:20260308T080000
END:DAYLIGHT
BEGIN:STANDARD
TZOFFSETFROM:-0500
TZOFFSETTO:-0600
TZNAME:CST
DTSTART:20261101T070000
END:STANDARD
END:VTIMEZONE
BEGIN:VEVENT
DTSTART;TZID=America/Chicago:20251117T170000
DTEND;TZID=America/Chicago:20251117T183000
DTSTAMP:20260419T235733
CREATED:20251110T180814Z
LAST-MODIFIED:20251110T180814Z
UID:3787-1763398800-1763404200@repfritts.com
SUMMARY:Medicare 101 Event
DESCRIPTION:Join the Office of State Representative Brad Fritts and the Northwestern Illinois Area Agency on Aging for a FREE\, informational Medicare 101 event. The event will specifically focus on individuals who are thinking about or currently in the process of retiring.  \nLocal residents can attend this event on Monday\, November 17th\, from 5:00 PM to 6:30 PM at the Hub City Senior Center\, located at 401 Cherry Avenue in Rochelle.  \nRepresentative Fritts also reminds constituents that his office is available for assistance with state agencies or programs at any time. His district office can be reached at 815-561-3690. 
URL:https://repfritts.com/event/medicare-101-event/
LOCATION:Hub City Senior Center\, 401 Cherry Avenue\, Rochelle\, IL\, United States
CATEGORIES:Community Calendar,Rep. Fritts Calendar
ATTACH;FMTTYPE=image/png:https://repfritts.com/wp-content/uploads/sites/64/2025/11/fritts-medicare-101-1125-wg-scaled.png
END:VEVENT
END:VCALENDAR