BEGIN:VCALENDAR
VERSION:2.0
PRODID:-//Bradley Fritts - ECPv6.15.16//NONSGML v1.0//EN
CALSCALE:GREGORIAN
METHOD:PUBLISH
X-WR-CALNAME:Bradley Fritts
X-ORIGINAL-URL:https://repfritts.com
X-WR-CALDESC:Events for Bradley Fritts
REFRESH-INTERVAL;VALUE=DURATION:PT1H
X-Robots-Tag:noindex
X-PUBLISHED-TTL:PT1H
BEGIN:VTIMEZONE
TZID:America/Chicago
BEGIN:DAYLIGHT
TZOFFSETFROM:-0600
TZOFFSETTO:-0500
TZNAME:CDT
DTSTART:20240310T080000
END:DAYLIGHT
BEGIN:STANDARD
TZOFFSETFROM:-0500
TZOFFSETTO:-0600
TZNAME:CST
DTSTART:20241103T070000
END:STANDARD
BEGIN:DAYLIGHT
TZOFFSETFROM:-0600
TZOFFSETTO:-0500
TZNAME:CDT
DTSTART:20250309T080000
END:DAYLIGHT
BEGIN:STANDARD
TZOFFSETFROM:-0500
TZOFFSETTO:-0600
TZNAME:CST
DTSTART:20251102T070000
END:STANDARD
BEGIN:DAYLIGHT
TZOFFSETFROM:-0600
TZOFFSETTO:-0500
TZNAME:CDT
DTSTART:20260308T080000
END:DAYLIGHT
BEGIN:STANDARD
TZOFFSETFROM:-0500
TZOFFSETTO:-0600
TZNAME:CST
DTSTART:20261101T070000
END:STANDARD
END:VTIMEZONE
BEGIN:VEVENT
DTSTART;TZID=America/Chicago:20251205T170000
DTEND;TZID=America/Chicago:20251205T200000
DTSTAMP:20260419T221640
CREATED:20251113T151833Z
LAST-MODIFIED:20251113T151833Z
UID:3823-1764954000-1764964800@repfritts.com
SUMMARY:Santa’s Workshop
DESCRIPTION:Come and enjoy some free activities for children and get your picture taken with Mr. and Mrs. Claus! Located in Grummert’s / Mead’s parking lot in downtown Sterling.
URL:https://repfritts.com/event/santas-workshop/
LOCATION:Grummert’s Hardware\, 424 Locust Street\, Sterling\, IL\, United States
CATEGORIES:Community Calendar
END:VEVENT
BEGIN:VEVENT
DTSTART;TZID=America/Chicago:20251205T170000
DTEND;TZID=America/Chicago:20251205T200000
DTSTAMP:20260419T221640
CREATED:20251113T152005Z
LAST-MODIFIED:20251113T152005Z
UID:3827-1764954000-1764964800@repfritts.com
SUMMARY:Dixon Christmas Walk
DESCRIPTION:The annual Christmas Walk kicks off with a tree lighting ceremony\, followed by Horse-drawn wagon rides\, free photos with Santa and much more!
URL:https://repfritts.com/event/dixon-christmas-walk/
LOCATION:Downtown Dixon
CATEGORIES:Community Calendar
END:VEVENT
END:VCALENDAR