BEGIN:VCALENDAR
VERSION:2.0
PRODID:-//Bradley Fritts - ECPv6.15.16//NONSGML v1.0//EN
CALSCALE:GREGORIAN
METHOD:PUBLISH
X-ORIGINAL-URL:https://repfritts.com
X-WR-CALDESC:Events for Bradley Fritts
REFRESH-INTERVAL;VALUE=DURATION:PT1H
X-Robots-Tag:noindex
X-PUBLISHED-TTL:PT1H
BEGIN:VTIMEZONE
TZID:America/Chicago
BEGIN:DAYLIGHT
TZOFFSETFROM:-0600
TZOFFSETTO:-0500
TZNAME:CDT
DTSTART:20250309T080000
END:DAYLIGHT
BEGIN:STANDARD
TZOFFSETFROM:-0500
TZOFFSETTO:-0600
TZNAME:CST
DTSTART:20251102T070000
END:STANDARD
BEGIN:DAYLIGHT
TZOFFSETFROM:-0600
TZOFFSETTO:-0500
TZNAME:CDT
DTSTART:20260308T080000
END:DAYLIGHT
BEGIN:STANDARD
TZOFFSETFROM:-0500
TZOFFSETTO:-0600
TZNAME:CST
DTSTART:20261101T070000
END:STANDARD
BEGIN:DAYLIGHT
TZOFFSETFROM:-0600
TZOFFSETTO:-0500
TZNAME:CDT
DTSTART:20270314T080000
END:DAYLIGHT
BEGIN:STANDARD
TZOFFSETFROM:-0500
TZOFFSETTO:-0600
TZNAME:CST
DTSTART:20271107T070000
END:STANDARD
END:VTIMEZONE
BEGIN:VEVENT
DTSTART;TZID=America/Chicago:20260131T080000
DTEND;TZID=America/Chicago:20260131T120000
DTSTAMP:20260419T190741
CREATED:20260105T172951Z
LAST-MODIFIED:20260105T172951Z
UID:3894-1769846400-1769860800@repfritts.com
SUMMARY:Twin City Farmers Market
DESCRIPTION:Indoor market is open all year round!  From locally raised meat\, eggs\, fresh baked breads and seasonal produce\, to a wide assortment of arts and crafts there is sure to be something for everyone! 
URL:https://repfritts.com/event/twin-city-farmers-market-18/
LOCATION:Twin City Farmers Market\, 106 Avenue A\, Sterling\, IL\, United States
CATEGORIES:Community Calendar
END:VEVENT
BEGIN:VEVENT
DTSTART;TZID=America/Chicago:20260131T170000
DTEND;TZID=America/Chicago:20260131T233000
DTSTAMP:20260419T190741
CREATED:20260105T173220Z
LAST-MODIFIED:20260105T173220Z
UID:3898-1769878800-1769902200@repfritts.com
SUMMARY:Newman Junior Comets Guest Bartender Night
DESCRIPTION:Swing by for a night of drinks and fun while supporting young athletes in the community. Your favorite Junior Comet coaches and parents will be behind the bar serving drinks and raising funds for the season.
URL:https://repfritts.com/event/newman-junior-comets-guest-bartender-night/
LOCATION:Crafted Roots\, 117 E. 3rd Street\, Sterling\, IL\, United States
CATEGORIES:Community Calendar
END:VEVENT
END:VCALENDAR