BEGIN:VCALENDAR
VERSION:2.0
PRODID:-//Bradley Fritts - ECPv6.15.16//NONSGML v1.0//EN
CALSCALE:GREGORIAN
METHOD:PUBLISH
X-ORIGINAL-URL:https://repfritts.com
X-WR-CALDESC:Events for Bradley Fritts
REFRESH-INTERVAL;VALUE=DURATION:PT1H
X-Robots-Tag:noindex
X-PUBLISHED-TTL:PT1H
BEGIN:VTIMEZONE
TZID:America/Chicago
BEGIN:DAYLIGHT
TZOFFSETFROM:-0600
TZOFFSETTO:-0500
TZNAME:CDT
DTSTART:20250309T080000
END:DAYLIGHT
BEGIN:STANDARD
TZOFFSETFROM:-0500
TZOFFSETTO:-0600
TZNAME:CST
DTSTART:20251102T070000
END:STANDARD
BEGIN:DAYLIGHT
TZOFFSETFROM:-0600
TZOFFSETTO:-0500
TZNAME:CDT
DTSTART:20260308T080000
END:DAYLIGHT
BEGIN:STANDARD
TZOFFSETFROM:-0500
TZOFFSETTO:-0600
TZNAME:CST
DTSTART:20261101T070000
END:STANDARD
BEGIN:DAYLIGHT
TZOFFSETFROM:-0600
TZOFFSETTO:-0500
TZNAME:CDT
DTSTART:20270314T080000
END:DAYLIGHT
BEGIN:STANDARD
TZOFFSETFROM:-0500
TZOFFSETTO:-0600
TZNAME:CST
DTSTART:20271107T070000
END:STANDARD
END:VTIMEZONE
BEGIN:VEVENT
DTSTART;TZID=America/Chicago:20260203T100000
DTEND;TZID=America/Chicago:20260203T113000
DTSTAMP:20260419T191722
CREATED:20260113T152659Z
LAST-MODIFIED:20260113T152659Z
UID:3932-1770112800-1770118200@repfritts.com
SUMMARY:Medicare 101 Event
DESCRIPTION:Join State Representatives Brad Fritts and Ryan Spain for a FREE Medicare 101 seminar\, hosted by the Illinois Department on Aging. \nThis informational event will include information about who is eligible\, coverage details\, and how to get help with out-of-pocket expenses.
URL:https://repfritts.com/event/medicare-101-event-2/
LOCATION:Rock Falls Chamber of Commerce\, 601 W. 10th Street\, Rock Falls\, IL\, United States
CATEGORIES:Community Calendar,Rep. Fritts Calendar
ATTACH;FMTTYPE=image/png:https://repfritts.com/wp-content/uploads/sites/64/2026/01/spain-fritts-medicare-101-020325-wg-scaled.png
END:VEVENT
END:VCALENDAR