BEGIN:VCALENDAR
VERSION:2.0
PRODID:-//Bradley Fritts - ECPv6.15.16//NONSGML v1.0//EN
CALSCALE:GREGORIAN
METHOD:PUBLISH
X-ORIGINAL-URL:https://repfritts.com
X-WR-CALDESC:Events for Bradley Fritts
REFRESH-INTERVAL;VALUE=DURATION:PT1H
X-Robots-Tag:noindex
X-PUBLISHED-TTL:PT1H
BEGIN:VTIMEZONE
TZID:America/Chicago
BEGIN:DAYLIGHT
TZOFFSETFROM:-0600
TZOFFSETTO:-0500
TZNAME:CDT
DTSTART:20230312T080000
END:DAYLIGHT
BEGIN:STANDARD
TZOFFSETFROM:-0500
TZOFFSETTO:-0600
TZNAME:CST
DTSTART:20231105T070000
END:STANDARD
BEGIN:DAYLIGHT
TZOFFSETFROM:-0600
TZOFFSETTO:-0500
TZNAME:CDT
DTSTART:20240310T080000
END:DAYLIGHT
BEGIN:STANDARD
TZOFFSETFROM:-0500
TZOFFSETTO:-0600
TZNAME:CST
DTSTART:20241103T070000
END:STANDARD
BEGIN:DAYLIGHT
TZOFFSETFROM:-0600
TZOFFSETTO:-0500
TZNAME:CDT
DTSTART:20250309T080000
END:DAYLIGHT
BEGIN:STANDARD
TZOFFSETFROM:-0500
TZOFFSETTO:-0600
TZNAME:CST
DTSTART:20251102T070000
END:STANDARD
END:VTIMEZONE
BEGIN:VEVENT
DTSTART;TZID=America/Chicago:20240807T070000
DTEND;TZID=America/Chicago:20240807T110000
DTSTAMP:20260423T021211
CREATED:20240801T174859Z
LAST-MODIFIED:20240801T174859Z
UID:2116-1723014000-1723028400@repfritts.com
SUMMARY:Rock Falls Farmers Market
DESCRIPTION:The Rock Falls Farmers Market is open every Wednesday & Saturday from 7-11 a.m. through October. Local vendors will be selling fresh produce\, fruit\, crafts\, jewelry\, baked goods\, and more!
URL:https://repfritts.com/event/rock-falls-farmers-market/
LOCATION:Rock Falls Farmers Market\, 400 W. 2nd Street\, Rock Falls\, IL\, United States
CATEGORIES:Community Calendar
END:VEVENT
BEGIN:VEVENT
DTSTART;TZID=America/Chicago:20240807T160000
DTEND;TZID=America/Chicago:20240807T190000
DTSTAMP:20260423T021211
CREATED:20240730T174614Z
LAST-MODIFIED:20240730T174903Z
UID:2069-1723046400-1723057200@repfritts.com
SUMMARY:FAFSA Application Information Event
DESCRIPTION:Sauk Valley Community College’s Financial Aid office will be out in the community providing assistance completing the Free Application for Federal Student Aid (FAFSA) application. These events are free and open to the public regardless of your intent to attend SVCC. Receive a goodie bag and a $20 gas gift card when you submit your FAFSA during one of these events.
URL:https://repfritts.com/event/fafsa-application-information-event/
LOCATION:Rock Falls Public Library\, 1007 7th Avenue\, Rock Falls\, IL\, United States
CATEGORIES:Community Calendar
END:VEVENT
BEGIN:VEVENT
DTSTART;TZID=America/Chicago:20240807T160000
DTEND;TZID=America/Chicago:20240807T190000
DTSTAMP:20260423T021211
CREATED:20240730T174852Z
LAST-MODIFIED:20240730T174908Z
UID:2074-1723046400-1723057200@repfritts.com
SUMMARY:FAFSA Application Information Event
DESCRIPTION:Sauk Valley Community College’s Financial Aid office will be out in the community providing assistance completing the Free Application for Federal Student Aid (FAFSA) application. These events are free and open to the public regardless of your intent to attend SVCC. Receive a goodie bag and a $20 gas gift card when you submit your FAFSA during one of these events.
URL:https://repfritts.com/event/fafsa-application-information-event-2/
LOCATION:Dixon Public Library\, 221 S. Hennepin Avenue\, Dixon\, IL\, United States
CATEGORIES:Community Calendar
END:VEVENT
END:VCALENDAR