BEGIN:VCALENDAR
VERSION:2.0
PRODID:-//Bradley Fritts - ECPv6.15.16//NONSGML v1.0//EN
CALSCALE:GREGORIAN
METHOD:PUBLISH
X-WR-CALNAME:Bradley Fritts
X-ORIGINAL-URL:https://repfritts.com
X-WR-CALDESC:Events for Bradley Fritts
REFRESH-INTERVAL;VALUE=DURATION:PT1H
X-Robots-Tag:noindex
X-PUBLISHED-TTL:PT1H
BEGIN:VTIMEZONE
TZID:America/Chicago
BEGIN:DAYLIGHT
TZOFFSETFROM:-0600
TZOFFSETTO:-0500
TZNAME:CDT
DTSTART:20230312T080000
END:DAYLIGHT
BEGIN:STANDARD
TZOFFSETFROM:-0500
TZOFFSETTO:-0600
TZNAME:CST
DTSTART:20231105T070000
END:STANDARD
BEGIN:DAYLIGHT
TZOFFSETFROM:-0600
TZOFFSETTO:-0500
TZNAME:CDT
DTSTART:20240310T080000
END:DAYLIGHT
BEGIN:STANDARD
TZOFFSETFROM:-0500
TZOFFSETTO:-0600
TZNAME:CST
DTSTART:20241103T070000
END:STANDARD
BEGIN:DAYLIGHT
TZOFFSETFROM:-0600
TZOFFSETTO:-0500
TZNAME:CDT
DTSTART:20250309T080000
END:DAYLIGHT
BEGIN:STANDARD
TZOFFSETFROM:-0500
TZOFFSETTO:-0600
TZNAME:CST
DTSTART:20251102T070000
END:STANDARD
END:VTIMEZONE
BEGIN:VEVENT
DTSTART;TZID=America/Chicago:20240814T070000
DTEND;TZID=America/Chicago:20240814T110000
DTSTAMP:20260423T020911
CREATED:20240801T175007Z
LAST-MODIFIED:20240801T175007Z
UID:2118-1723618800-1723633200@repfritts.com
SUMMARY:Rock Falls Farmers Market
DESCRIPTION:The Rock Falls Farmers Market is open every Wednesday & Saturday from 7-11 a.m. through October. Local vendors will be selling fresh produce\, fruit\, crafts\, jewelry\, baked goods\, and more!
URL:https://repfritts.com/event/rock-falls-farmers-market-2/
LOCATION:Rock Falls Farmers Market\, 400 W. 2nd Street\, Rock Falls\, IL\, United States
CATEGORIES:Community Calendar
END:VEVENT
BEGIN:VEVENT
DTSTART;TZID=America/Chicago:20240814T190000
DTEND;TZID=America/Chicago:20240814T200000
DTSTAMP:20260423T020911
CREATED:20240808T154656Z
LAST-MODIFIED:20240808T154656Z
UID:2190-1723662000-1723665600@repfritts.com
SUMMARY:Village of Lee OSLAD Town Hall
DESCRIPTION:The Village of Lee invites all residents to a town hall meeting to discuss the application for the Open Space Lands Acquisition and Development grant.
URL:https://repfritts.com/event/village-of-lee-oslad-town-hall/
LOCATION:Lee Firebarn\, 103 Lee Road\, Lee\, IL\, United States
CATEGORIES:Community Calendar
END:VEVENT
END:VCALENDAR