BEGIN:VCALENDAR
VERSION:2.0
PRODID:-//Bradley Fritts - ECPv6.15.16//NONSGML v1.0//EN
CALSCALE:GREGORIAN
METHOD:PUBLISH
X-WR-CALNAME:Bradley Fritts
X-ORIGINAL-URL:https://repfritts.com
X-WR-CALDESC:Events for Bradley Fritts
REFRESH-INTERVAL;VALUE=DURATION:PT1H
X-Robots-Tag:noindex
X-PUBLISHED-TTL:PT1H
BEGIN:VTIMEZONE
TZID:America/Chicago
BEGIN:DAYLIGHT
TZOFFSETFROM:-0600
TZOFFSETTO:-0500
TZNAME:CDT
DTSTART:20230312T080000
END:DAYLIGHT
BEGIN:STANDARD
TZOFFSETFROM:-0500
TZOFFSETTO:-0600
TZNAME:CST
DTSTART:20231105T070000
END:STANDARD
BEGIN:DAYLIGHT
TZOFFSETFROM:-0600
TZOFFSETTO:-0500
TZNAME:CDT
DTSTART:20240310T080000
END:DAYLIGHT
BEGIN:STANDARD
TZOFFSETFROM:-0500
TZOFFSETTO:-0600
TZNAME:CST
DTSTART:20241103T070000
END:STANDARD
BEGIN:DAYLIGHT
TZOFFSETFROM:-0600
TZOFFSETTO:-0500
TZNAME:CDT
DTSTART:20250309T080000
END:DAYLIGHT
BEGIN:STANDARD
TZOFFSETFROM:-0500
TZOFFSETTO:-0600
TZNAME:CST
DTSTART:20251102T070000
END:STANDARD
END:VTIMEZONE
BEGIN:VEVENT
DTSTART;TZID=America/Chicago:20241025T160000
DTEND;TZID=America/Chicago:20241025T180000
DTSTAMP:20260422T224720
CREATED:20240801T181905Z
LAST-MODIFIED:20240801T181905Z
UID:2171-1729872000-1729879200@repfritts.com
SUMMARY:Rock Falls Chamber Biz Boo! Trick or Treat 2024
DESCRIPTION:Local businesses offer a safe and fun way to fill up your young one’s candy buckets\, and there’s lots of tricks and treats for adults along the way too! There will be games\, activities\, and festive fun all in a safe environment with vendor booths located along the RB&W Riverfront Park.
URL:https://repfritts.com/event/rock-falls-chamber-biz-boo-trick-or-treat-2024/
LOCATION:RB&W District\, 201 E. 2nd Street\, Rock Falls\, IL\, United States
CATEGORIES:Community Calendar
END:VEVENT
END:VCALENDAR