BEGIN:VCALENDAR
VERSION:2.0
PRODID:-//Bradley Fritts - ECPv6.15.16//NONSGML v1.0//EN
CALSCALE:GREGORIAN
METHOD:PUBLISH
X-WR-CALNAME:Bradley Fritts
X-ORIGINAL-URL:https://repfritts.com
X-WR-CALDESC:Events for Bradley Fritts
REFRESH-INTERVAL;VALUE=DURATION:PT1H
X-Robots-Tag:noindex
X-PUBLISHED-TTL:PT1H
BEGIN:VTIMEZONE
TZID:America/Chicago
BEGIN:DAYLIGHT
TZOFFSETFROM:-0600
TZOFFSETTO:-0500
TZNAME:CDT
DTSTART:20240310T080000
END:DAYLIGHT
BEGIN:STANDARD
TZOFFSETFROM:-0500
TZOFFSETTO:-0600
TZNAME:CST
DTSTART:20241103T070000
END:STANDARD
BEGIN:DAYLIGHT
TZOFFSETFROM:-0600
TZOFFSETTO:-0500
TZNAME:CDT
DTSTART:20250309T080000
END:DAYLIGHT
BEGIN:STANDARD
TZOFFSETFROM:-0500
TZOFFSETTO:-0600
TZNAME:CST
DTSTART:20251102T070000
END:STANDARD
BEGIN:DAYLIGHT
TZOFFSETFROM:-0600
TZOFFSETTO:-0500
TZNAME:CDT
DTSTART:20260308T080000
END:DAYLIGHT
BEGIN:STANDARD
TZOFFSETFROM:-0500
TZOFFSETTO:-0600
TZNAME:CST
DTSTART:20261101T070000
END:STANDARD
END:VTIMEZONE
BEGIN:VEVENT
DTSTART;TZID=America/Chicago:20250903T070000
DTEND;TZID=America/Chicago:20250903T110000
DTSTAMP:20260425T121137
CREATED:20250828T204159Z
LAST-MODIFIED:20250828T204159Z
UID:3682-1756882800-1756897200@repfritts.com
SUMMARY:Rock Falls Farmers Market
DESCRIPTION:Shop FRESH\, shop LOCAL at the Rock Falls Farmers Market\, open every Wednesday & Saturday\, 7-11am. FANTASTIC finds like local honey\, herbs\, jellies & jam\, fresh produce\, flowers\, plants\, baked goods\, crochet items\, and SO MUCH MORE.
URL:https://repfritts.com/event/rock-falls-farmers-market-27/
LOCATION:Rock Falls Farmers Market\, 400 W. 2nd Street\, Rock Falls\, IL\, United States
CATEGORIES:Community Calendar
END:VEVENT
BEGIN:VEVENT
DTSTART;TZID=America/Chicago:20250903T110000
DTEND;TZID=America/Chicago:20250903T120000
DTSTAMP:20260425T121137
CREATED:20250828T202921Z
LAST-MODIFIED:20250828T202921Z
UID:3652-1756897200-1756900800@repfritts.com
SUMMARY:Shake\, Rattle and Read
DESCRIPTION:Stories\, songs\, puppets\, playtime\, and much more!  For babies and toddlers ages birth to 2.  Pre-K siblings are welcome to share in the fun.  Register by calling 815-538-5142.
URL:https://repfritts.com/event/shake-rattle-and-read/
LOCATION:Graves Hume Public Library\, 1401 W. Main Street\, Mendota\, IL\, United States
CATEGORIES:Community Calendar
END:VEVENT
END:VCALENDAR