BEGIN:VCALENDAR
VERSION:2.0
PRODID:-//Bradley Fritts - ECPv6.15.16//NONSGML v1.0//EN
CALSCALE:GREGORIAN
METHOD:PUBLISH
X-ORIGINAL-URL:https://repfritts.com
X-WR-CALDESC:Events for Bradley Fritts
REFRESH-INTERVAL;VALUE=DURATION:PT1H
X-Robots-Tag:noindex
X-PUBLISHED-TTL:PT1H
BEGIN:VTIMEZONE
TZID:America/Chicago
BEGIN:DAYLIGHT
TZOFFSETFROM:-0600
TZOFFSETTO:-0500
TZNAME:CDT
DTSTART:20240310T080000
END:DAYLIGHT
BEGIN:STANDARD
TZOFFSETFROM:-0500
TZOFFSETTO:-0600
TZNAME:CST
DTSTART:20241103T070000
END:STANDARD
BEGIN:DAYLIGHT
TZOFFSETFROM:-0600
TZOFFSETTO:-0500
TZNAME:CDT
DTSTART:20250309T080000
END:DAYLIGHT
BEGIN:STANDARD
TZOFFSETFROM:-0500
TZOFFSETTO:-0600
TZNAME:CST
DTSTART:20251102T070000
END:STANDARD
BEGIN:DAYLIGHT
TZOFFSETFROM:-0600
TZOFFSETTO:-0500
TZNAME:CDT
DTSTART:20260308T080000
END:DAYLIGHT
BEGIN:STANDARD
TZOFFSETFROM:-0500
TZOFFSETTO:-0600
TZNAME:CST
DTSTART:20261101T070000
END:STANDARD
END:VTIMEZONE
BEGIN:VEVENT
DTSTART;TZID=America/Chicago:20250909T120000
DTEND;TZID=America/Chicago:20250909T170000
DTSTAMP:20260425T121406
CREATED:20250828T202240Z
LAST-MODIFIED:20250828T202240Z
UID:3642-1757419200-1757437200@repfritts.com
SUMMARY:Youth Mental Health First Aid Workshop
DESCRIPTION:Learn to identify\, understand\, and respond to signs of mental health illnesses and substance use disorders in youth at an Illinois Extension training\, offered in partnership with Sinnissippi Centers.  Cost is $30 / open to the public.  http://go.illinois.edu/YMHFAWhiteside
URL:https://repfritts.com/event/youth-mental-health-first-aid-workshop/
LOCATION:Whiteside County Illinois Extension Office\, 12923 Lawrence Road\, Sterling\, IL\, United States
CATEGORIES:Community Calendar
END:VEVENT
END:VCALENDAR