BEGIN:VCALENDAR
VERSION:2.0
PRODID:-//Bradley Fritts - ECPv6.15.16//NONSGML v1.0//EN
CALSCALE:GREGORIAN
METHOD:PUBLISH
X-WR-CALNAME:Bradley Fritts
X-ORIGINAL-URL:https://repfritts.com
X-WR-CALDESC:Events for Bradley Fritts
REFRESH-INTERVAL;VALUE=DURATION:PT1H
X-Robots-Tag:noindex
X-PUBLISHED-TTL:PT1H
BEGIN:VTIMEZONE
TZID:America/Chicago
BEGIN:DAYLIGHT
TZOFFSETFROM:-0600
TZOFFSETTO:-0500
TZNAME:CDT
DTSTART:20240310T080000
END:DAYLIGHT
BEGIN:STANDARD
TZOFFSETFROM:-0500
TZOFFSETTO:-0600
TZNAME:CST
DTSTART:20241103T070000
END:STANDARD
BEGIN:DAYLIGHT
TZOFFSETFROM:-0600
TZOFFSETTO:-0500
TZNAME:CDT
DTSTART:20250309T080000
END:DAYLIGHT
BEGIN:STANDARD
TZOFFSETFROM:-0500
TZOFFSETTO:-0600
TZNAME:CST
DTSTART:20251102T070000
END:STANDARD
BEGIN:DAYLIGHT
TZOFFSETFROM:-0600
TZOFFSETTO:-0500
TZNAME:CDT
DTSTART:20260308T080000
END:DAYLIGHT
BEGIN:STANDARD
TZOFFSETFROM:-0500
TZOFFSETTO:-0600
TZNAME:CST
DTSTART:20261101T070000
END:STANDARD
END:VTIMEZONE
BEGIN:VEVENT
DTSTART;TZID=America/Chicago:20250918T100000
DTEND;TZID=America/Chicago:20250918T140000
DTSTAMP:20260425T121140
CREATED:20250821T162758Z
LAST-MODIFIED:20250821T192438Z
UID:3610-1758189600-1758204000@repfritts.com
SUMMARY:Job Fair
DESCRIPTION:State Representative Brad Fritts is hosting a FREE upcoming Job Fair on Thursday\, September 18th\, from 10:00 AM to 2:00 PM. The event will be hosted at Dillon Mall at Sauk Valley Community College\, located at 173 IL-2 in Dixon.  \nEmployers include: \n\nCentral Management Services (Recruitment and Career Counseling)\nDepartment of Agriculture\nDepartment of Corrections\nDepartment of Human Services\nDepartment of Public Health\nDepartment of Transportation\nDepartment of Revenue\nEmployment Security\nHealth & Family Services\nIllinois Emergency Management Services\nIllinois Secretary of State\nIllinois State Police\n\nProspective employees are encouraged to dress to impress and bring lots of resumes!
URL:https://repfritts.com/event/job-fair/
LOCATION:Sauk Valley Community College\, 173 IL-2\, Dixon\, IL\, United States
CATEGORIES:Community Calendar,Rep. Fritts Calendar
ATTACH;FMTTYPE=image/png:https://repfritts.com/wp-content/uploads/sites/64/2025/08/fritts-jobs-fair-wg-2025-r.png
END:VEVENT
BEGIN:VEVENT
DTSTART;TZID=America/Chicago:20250918T110000
DTEND;TZID=America/Chicago:20250918T120000
DTSTAMP:20260425T121140
CREATED:20250828T203417Z
LAST-MODIFIED:20250828T203417Z
UID:3660-1758193200-1758196800@repfritts.com
SUMMARY:WITS Workout
DESCRIPTION:Inviting adults 60 years and older to participate in a FREE 12-week brain health engagement program.  Thursdays\, Sept. 4 through November 12th. Register at 815-538-5142.
URL:https://repfritts.com/event/wits-workout-3/
LOCATION:Graves Hume Public Library\, 1401 W. Main Street\, Mendota\, IL\, United States
CATEGORIES:Community Calendar
END:VEVENT
END:VCALENDAR