BEGIN:VCALENDAR
VERSION:2.0
PRODID:-//Bradley Fritts - ECPv6.15.16//NONSGML v1.0//EN
CALSCALE:GREGORIAN
METHOD:PUBLISH
X-WR-CALNAME:Bradley Fritts
X-ORIGINAL-URL:https://repfritts.com
X-WR-CALDESC:Events for Bradley Fritts
REFRESH-INTERVAL;VALUE=DURATION:PT1H
X-Robots-Tag:noindex
X-PUBLISHED-TTL:PT1H
BEGIN:VTIMEZONE
TZID:America/Chicago
BEGIN:DAYLIGHT
TZOFFSETFROM:-0600
TZOFFSETTO:-0500
TZNAME:CDT
DTSTART:20230312T080000
END:DAYLIGHT
BEGIN:STANDARD
TZOFFSETFROM:-0500
TZOFFSETTO:-0600
TZNAME:CST
DTSTART:20231105T070000
END:STANDARD
BEGIN:DAYLIGHT
TZOFFSETFROM:-0600
TZOFFSETTO:-0500
TZNAME:CDT
DTSTART:20240310T080000
END:DAYLIGHT
BEGIN:STANDARD
TZOFFSETFROM:-0500
TZOFFSETTO:-0600
TZNAME:CST
DTSTART:20241103T070000
END:STANDARD
BEGIN:DAYLIGHT
TZOFFSETFROM:-0600
TZOFFSETTO:-0500
TZNAME:CDT
DTSTART:20250309T080000
END:DAYLIGHT
BEGIN:STANDARD
TZOFFSETFROM:-0500
TZOFFSETTO:-0600
TZNAME:CST
DTSTART:20251102T070000
END:STANDARD
END:VTIMEZONE
BEGIN:VEVENT
DTSTART;TZID=America/Chicago:20240504T090000
DTEND;TZID=America/Chicago:20240504T110000
DTSTAMP:20260422T091256
CREATED:20240322T191624Z
LAST-MODIFIED:20240717T165429Z
UID:1505-1714813200-1714820400@repfritts.com
SUMMARY:Prescription Drug Drop-Off
DESCRIPTION:Drop off your unused\, unwanted\, or expired prescription drugs and we will safely dispose of them for FREE! This event is held in partnership with the Mendota Police Department\, the Mendota Chamber of Commerce\, and the City of Mendota.\n\n \n\n \n\n \n\nAccepted Items:\n\n 	Tablets\, capsules\, and other solid\nforms of prescription drugs\n 	Patches\n 	Vaping devices and cartridges\n(lithium batteries removed)\n 	Pet Medications\n\nProhibited Items:\n\n 	Liquids (including intravenous solutions)\n 	Syringes\n 	Needles\n\n \n\nThis is an outdoor event that allows you to remain in your vehicle. Drivers should follow the marked lanes when entering and exiting the parking lot.
URL:https://repfritts.com/event/prescription-drug-drop-off/
LOCATION:Mendota Civic Center\, 1901 Tom Merwin Drive\, Mendota\, IL\, United States
CATEGORIES:Rep. Fritts Calendar
END:VEVENT
BEGIN:VEVENT
DTSTART;TZID=America/Chicago:20240509T100000
DTEND;TZID=America/Chicago:20240509T113000
DTSTAMP:20260422T091256
CREATED:20240410T150823Z
LAST-MODIFIED:20240717T165426Z
UID:1559-1715248800-1715254200@repfritts.com
SUMMARY:Traveling Office Hours - Polo
DESCRIPTION:Join the Offices of State Representative Bradley Fritts and Leader Tony McCombie for traveling office hours in Polo! Staff will be on hand to assist with questions or concerns.
URL:https://repfritts.com/event/traveling-office-hours-polo/
LOCATION:Polo Public Library\, 302 W. Mason Street\, Polo\, IL\, United States
CATEGORIES:Rep. Fritts Calendar
END:VEVENT
BEGIN:VEVENT
DTSTART;TZID=America/Chicago:20240516T100000
DTEND;TZID=America/Chicago:20240516T110000
DTSTAMP:20260422T091256
CREATED:20240410T150930Z
LAST-MODIFIED:20240717T165422Z
UID:1563-1715853600-1715857200@repfritts.com
SUMMARY:Traveling Office Hours - Morrison
DESCRIPTION:Join the Offices of State Representative Bradley Fritts and Deputy Leader Ryan Spain for traveling office hours in Morrison! Staff will be on hand to assist with questions or concerns.
URL:https://repfritts.com/event/traveling-office-hours-morrison/
LOCATION:Morrison Chamber of Commerce\, 221 W. Main Street\, Morrison\, IL\, United States
CATEGORIES:Rep. Fritts Calendar
END:VEVENT
END:VCALENDAR