BEGIN:VCALENDAR
VERSION:2.0
PRODID:-//Bradley Fritts - ECPv6.15.16//NONSGML v1.0//EN
CALSCALE:GREGORIAN
METHOD:PUBLISH
X-WR-CALNAME:Bradley Fritts
X-ORIGINAL-URL:https://repfritts.com
X-WR-CALDESC:Events for Bradley Fritts
REFRESH-INTERVAL;VALUE=DURATION:PT1H
X-Robots-Tag:noindex
X-PUBLISHED-TTL:PT1H
BEGIN:VTIMEZONE
TZID:America/Chicago
BEGIN:DAYLIGHT
TZOFFSETFROM:-0600
TZOFFSETTO:-0500
TZNAME:CDT
DTSTART:20230312T080000
END:DAYLIGHT
BEGIN:STANDARD
TZOFFSETFROM:-0500
TZOFFSETTO:-0600
TZNAME:CST
DTSTART:20231105T070000
END:STANDARD
BEGIN:DAYLIGHT
TZOFFSETFROM:-0600
TZOFFSETTO:-0500
TZNAME:CDT
DTSTART:20240310T080000
END:DAYLIGHT
BEGIN:STANDARD
TZOFFSETFROM:-0500
TZOFFSETTO:-0600
TZNAME:CST
DTSTART:20241103T070000
END:STANDARD
BEGIN:DAYLIGHT
TZOFFSETFROM:-0600
TZOFFSETTO:-0500
TZNAME:CDT
DTSTART:20250309T080000
END:DAYLIGHT
BEGIN:STANDARD
TZOFFSETFROM:-0500
TZOFFSETTO:-0600
TZNAME:CST
DTSTART:20251102T070000
END:STANDARD
END:VTIMEZONE
BEGIN:VEVENT
DTSTART;TZID=America/Chicago:20240605T080000
DTEND;TZID=America/Chicago:20240605T100000
DTSTAMP:20260422T112237
CREATED:20240530T201833Z
LAST-MODIFIED:20240717T165419Z
UID:1779-1717574400-1717581600@repfritts.com
SUMMARY:Coffee & Conversation - Franklin Grove
DESCRIPTION:Join State Representative Brad Fritts for a Coffee & Conversation event on June 5th from 8:00 AM to 10:00 AM in Franklin Grove at Lincoln Way Cafe! This event is a part of his 2024 Summer Tour of District 74. For a full list of Summer Tour events\, click here.
URL:https://repfritts.com/event/coffee-conversation-franklin-grove/
LOCATION:Lincoln Way Cafe\, 137 N. Elm Street\, Franklin Grove\, IL\, United States
CATEGORIES:Rep. Fritts Calendar
END:VEVENT
BEGIN:VEVENT
DTSTART;TZID=America/Chicago:20240606T093000
DTEND;TZID=America/Chicago:20240606T103000
DTSTAMP:20260422T112237
CREATED:20240530T202830Z
LAST-MODIFIED:20240717T165412Z
UID:1793-1717666200-1717669800@repfritts.com
SUMMARY:Traveling Office Hours - Ashton
DESCRIPTION:Join the Office of State Representative Brad Fritts for Traveling Office Hours on June 6th from 9:30 AM to 10:30 AM at the Ashton Village Hall! Staff will be available to assist with constituent questions and concerns.  \nThis event is a part of his 2024 Summer Tour of District 74. For a full list of Summer Tour events\, click here.
URL:https://repfritts.com/event/traveling-office-hours-ashton-2/
LOCATION:Ashton Village Hall\, 810 Main Street\, Ashton\, IL\, United States
CATEGORIES:Rep. Fritts Calendar
END:VEVENT
BEGIN:VEVENT
DTSTART;TZID=America/Chicago:20240606T110000
DTEND;TZID=America/Chicago:20240606T120000
DTSTAMP:20260422T112237
CREATED:20240530T203037Z
LAST-MODIFIED:20240717T152711Z
UID:1796-1717671600-1717675200@repfritts.com
SUMMARY:Traveling Office Hours - Franklin Grove
DESCRIPTION:Join the Office of State Representative Brad Fritts for Traveling Office Hours on June 6th from 11:00 AM to 12:00 PM at the Franklin Grove Library! Staff will be available to assist with constituent questions and concerns.  \nThis event is a part of his 2024 Summer Tour of District 74. For a full list of Summer Tour events\, click here.
URL:https://repfritts.com/event/traveling-office-hours-franklin-grove-2/
LOCATION:Franklin Grove Library\, 112 S. Elm Street\, Franklin Grove\, IL\, United States
CATEGORIES:Rep. Fritts Calendar
END:VEVENT
BEGIN:VEVENT
DTSTART;TZID=America/Chicago:20240608T090000
DTEND;TZID=America/Chicago:20240608T110000
DTSTAMP:20260422T112237
CREATED:20240322T192137Z
LAST-MODIFIED:20240717T152707Z
UID:1513-1717837200-1717844400@repfritts.com
SUMMARY:Shred Event
DESCRIPTION:Join State Representative Brad Fritts and Self Help at this FREE shredding event! Participants should follow all directions when entering the parking lot. This is a drive-up event\, but participants may exit their vehicles to watch the shredding. Only residential paper documents without paper clips will be accepted. Brochures on state and local programs will be available.
URL:https://repfritts.com/event/shred-event/
LOCATION:Self Help Enterprises\, 2300 W Le Fevre Road\, Sterling\, IL\, United States
CATEGORIES:Rep. Fritts Calendar
END:VEVENT
BEGIN:VEVENT
DTSTART;TZID=America/Chicago:20240612T080000
DTEND;TZID=America/Chicago:20240612T100000
DTSTAMP:20260422T112237
CREATED:20240530T202024Z
LAST-MODIFIED:20240717T152716Z
UID:1783-1718179200-1718186400@repfritts.com
SUMMARY:Coffee & Conversation - Shabbona
DESCRIPTION:Join State Representative Brad Fritts for a Coffee & Conversation event on June 12th from 8:00 AM to 10:00 AM in Shabbona at the Shabbona Cafe! This event is a part of his 2024 Summer Tour of District 74. For a full list of Summer Tour events\, click here.
URL:https://repfritts.com/event/coffee-conversation-shabbona-2/
LOCATION:Shabbona Cafe\, 114 W Comanche Avenue\, Shabbona\, IL\, United States
CATEGORIES:Rep. Fritts Calendar
END:VEVENT
BEGIN:VEVENT
DTSTART;TZID=America/Chicago:20240613T100000
DTEND;TZID=America/Chicago:20240613T110000
DTSTAMP:20260422T112237
CREATED:20240530T203240Z
LAST-MODIFIED:20240717T152718Z
UID:1800-1718272800-1718276400@repfritts.com
SUMMARY:Traveling Office Hours - Paw Paw
DESCRIPTION:Join the Office of State Representative Brad Fritts for Traveling Office Hours on June 13th from 10:00 AM to 11:00 AM at the Paw Paw Public Library! Staff will be available to assist with constituent questions and concerns.  \nThis event is a part of his 2024 Summer Tour of District 74. For a full list of Summer Tour events\, click here.
URL:https://repfritts.com/event/traveling-office-hours-paw-paw-2/
LOCATION:Paw Paw Public Library\, 362 Chicago Road\, Paw Paw\, IL\, United States
CATEGORIES:Rep. Fritts Calendar
END:VEVENT
BEGIN:VEVENT
DTSTART;TZID=America/Chicago:20240620T080000
DTEND;TZID=America/Chicago:20240620T100000
DTSTAMP:20260422T112237
CREATED:20240530T202245Z
LAST-MODIFIED:20240717T152726Z
UID:1785-1718870400-1718877600@repfritts.com
SUMMARY:Coffee & Conversation - Amboy
DESCRIPTION:Join State Representative Brad Fritts for a Coffee & Conversation event on June 20th from 8:00 AM to 10:00 AM in Amboy at the Sunset Inn Restaurant! This event is a part of his 2024 Summer Tour of District 74. For a full list of Summer Tour events\, click here.
URL:https://repfritts.com/event/coffee-conversation-amboy-2/
LOCATION:Sunset Inn Restaurant\, 1578 US-30\, Amboy\, IL\, United States
CATEGORIES:Rep. Fritts Calendar
END:VEVENT
END:VCALENDAR