BEGIN:VCALENDAR
VERSION:2.0
PRODID:-//Bradley Fritts - ECPv6.15.16//NONSGML v1.0//EN
CALSCALE:GREGORIAN
METHOD:PUBLISH
X-WR-CALNAME:Bradley Fritts
X-ORIGINAL-URL:https://repfritts.com
X-WR-CALDESC:Events for Bradley Fritts
REFRESH-INTERVAL;VALUE=DURATION:PT1H
X-Robots-Tag:noindex
X-PUBLISHED-TTL:PT1H
BEGIN:VTIMEZONE
TZID:America/Chicago
BEGIN:DAYLIGHT
TZOFFSETFROM:-0600
TZOFFSETTO:-0500
TZNAME:CDT
DTSTART:20240310T080000
END:DAYLIGHT
BEGIN:STANDARD
TZOFFSETFROM:-0500
TZOFFSETTO:-0600
TZNAME:CST
DTSTART:20241103T070000
END:STANDARD
BEGIN:DAYLIGHT
TZOFFSETFROM:-0600
TZOFFSETTO:-0500
TZNAME:CDT
DTSTART:20250309T080000
END:DAYLIGHT
BEGIN:STANDARD
TZOFFSETFROM:-0500
TZOFFSETTO:-0600
TZNAME:CST
DTSTART:20251102T070000
END:STANDARD
BEGIN:DAYLIGHT
TZOFFSETFROM:-0600
TZOFFSETTO:-0500
TZNAME:CDT
DTSTART:20260308T080000
END:DAYLIGHT
BEGIN:STANDARD
TZOFFSETFROM:-0500
TZOFFSETTO:-0600
TZNAME:CST
DTSTART:20261101T070000
END:STANDARD
END:VTIMEZONE
BEGIN:VEVENT
DTSTART;TZID=America/Chicago:20251002T110000
DTEND;TZID=America/Chicago:20251002T120000
DTSTAMP:20260419T235440
CREATED:20250828T203527Z
LAST-MODIFIED:20250828T203527Z
UID:3664-1759402800-1759406400@repfritts.com
SUMMARY:WITS Workout
DESCRIPTION:Inviting adults 60 years and older to participate in a FREE 12-week brain health engagement program.  Thursdays\, Sept. 4 through November 12th. Register at 815-538-5142.
URL:https://repfritts.com/event/wits-workout-5/
LOCATION:Graves Hume Public Library\, 1401 W. Main Street\, Mendota\, IL\, United States
CATEGORIES:Community Calendar
END:VEVENT
BEGIN:VEVENT
DTSTART;TZID=America/Chicago:20251002T180000
DTEND;TZID=America/Chicago:20251002T210000
DTSTAMP:20260419T235440
CREATED:20250828T204105Z
LAST-MODIFIED:20250828T204105Z
UID:3679-1759428000-1759438800@repfritts.com
SUMMARY:Annual Art Show
DESCRIPTION:Lifeworks Photography Studio hosts the annual Art Show\, a fundraising event for the Rochelle Area Community Foundation’s Williams Fun for the Arts.
URL:https://repfritts.com/event/annual-art-show/
LOCATION:Lincoln Arts Center\, 108 South Main Street\, Rochelle\, IL\, United States
CATEGORIES:Community Calendar
END:VEVENT
BEGIN:VEVENT
DTSTART;TZID=America/Chicago:20251009T110000
DTEND;TZID=America/Chicago:20251009T120000
DTSTAMP:20260419T235440
CREATED:20250828T203611Z
LAST-MODIFIED:20250828T203611Z
UID:3666-1760007600-1760011200@repfritts.com
SUMMARY:WITS Workout
DESCRIPTION:Inviting adults 60 years and older to participate in a FREE 12-week brain health engagement program.  Thursdays\, Sept. 4 through November 12th. Register at 815-538-5142.
URL:https://repfritts.com/event/wits-workout-6/
LOCATION:Graves Hume Public Library\, 1401 W. Main Street\, Mendota\, IL\, United States
CATEGORIES:Community Calendar
END:VEVENT
BEGIN:VEVENT
DTSTART;TZID=America/Chicago:20251015T120000
DTEND;TZID=America/Chicago:20251015T140000
DTSTAMP:20260419T235440
CREATED:20251008T200514Z
LAST-MODIFIED:20251008T200514Z
UID:3757-1760529600-1760536800@repfritts.com
SUMMARY:Utility Bill Clinic
DESCRIPTION:State Representative Brad Fritts’ Office is teaming up with the Citizens Utility Board (CUB) to host a Utility Bill Clinic! Join us for this informative event about ways to reduce your utility costs on Wednesday\, October 15th\, from 12:00 PM to 2:00 PM at the Sterling Public Library.\n\n\n\nAppointments are preferred and can be made by calling his office at 815-561-3690 EXT. 2\, or by clicking here.
URL:https://repfritts.com/event/utility-bill-clinic/
LOCATION:Sterling Public Library\, 102 W. 3rd Street\, Sterling\, IL\, United States
CATEGORIES:Community Calendar,Rep. Fritts Calendar
ATTACH;FMTTYPE=image/png:https://repfritts.com/wp-content/uploads/sites/64/2025/10/Fritts-Utility-Bill-Clinic-101525-01.png
END:VEVENT
BEGIN:VEVENT
DTSTART;TZID=America/Chicago:20251016T110000
DTEND;TZID=America/Chicago:20251016T120000
DTSTAMP:20260419T235440
CREATED:20250828T203648Z
LAST-MODIFIED:20250828T203648Z
UID:3668-1760612400-1760616000@repfritts.com
SUMMARY:WITS Workout
DESCRIPTION:Inviting adults 60 years and older to participate in a FREE 12-week brain health engagement program.  Thursdays\, Sept. 4 through November 12th. Register at 815-538-5142.
URL:https://repfritts.com/event/wits-workout-7/
LOCATION:Graves Hume Public Library\, 1401 W. Main Street\, Mendota\, IL\, United States
CATEGORIES:Community Calendar
END:VEVENT
BEGIN:VEVENT
DTSTART;TZID=America/Chicago:20251023T110000
DTEND;TZID=America/Chicago:20251023T120000
DTSTAMP:20260419T235440
CREATED:20250828T203723Z
LAST-MODIFIED:20250828T203723Z
UID:3670-1761217200-1761220800@repfritts.com
SUMMARY:WITS Workout
DESCRIPTION:Inviting adults 60 years and older to participate in a FREE 12-week brain health engagement program.  Thursdays\, Sept. 4 through November 12th. Register at 815-538-5142.
URL:https://repfritts.com/event/wits-workout-8/
LOCATION:Graves Hume Public Library\, 1401 W. Main Street\, Mendota\, IL\, United States
CATEGORIES:Community Calendar
END:VEVENT
BEGIN:VEVENT
DTSTART;TZID=America/Chicago:20251030T110000
DTEND;TZID=America/Chicago:20251030T120000
DTSTAMP:20260419T235440
CREATED:20250828T203810Z
LAST-MODIFIED:20250828T203810Z
UID:3672-1761822000-1761825600@repfritts.com
SUMMARY:WITS Workout
DESCRIPTION:Inviting adults 60 years and older to participate in a FREE 12-week brain health engagement program.  Thursdays\, Sept. 4 through November 12th. Register at 815-538-5142.
URL:https://repfritts.com/event/wits-workout-9/
LOCATION:Graves Hume Public Library\, 1401 W. Main Street\, Mendota\, IL\, United States
CATEGORIES:Community Calendar
END:VEVENT
END:VCALENDAR