BEGIN:VCALENDAR
VERSION:2.0
PRODID:-//Bradley Fritts - ECPv6.15.16//NONSGML v1.0//EN
CALSCALE:GREGORIAN
METHOD:PUBLISH
X-ORIGINAL-URL:https://repfritts.com
X-WR-CALDESC:Events for Bradley Fritts
REFRESH-INTERVAL;VALUE=DURATION:PT1H
X-Robots-Tag:noindex
X-PUBLISHED-TTL:PT1H
BEGIN:VTIMEZONE
TZID:America/Chicago
BEGIN:DAYLIGHT
TZOFFSETFROM:-0600
TZOFFSETTO:-0500
TZNAME:CDT
DTSTART:20240310T080000
END:DAYLIGHT
BEGIN:STANDARD
TZOFFSETFROM:-0500
TZOFFSETTO:-0600
TZNAME:CST
DTSTART:20241103T070000
END:STANDARD
BEGIN:DAYLIGHT
TZOFFSETFROM:-0600
TZOFFSETTO:-0500
TZNAME:CDT
DTSTART:20250309T080000
END:DAYLIGHT
BEGIN:STANDARD
TZOFFSETFROM:-0500
TZOFFSETTO:-0600
TZNAME:CST
DTSTART:20251102T070000
END:STANDARD
BEGIN:DAYLIGHT
TZOFFSETFROM:-0600
TZOFFSETTO:-0500
TZNAME:CDT
DTSTART:20260308T080000
END:DAYLIGHT
BEGIN:STANDARD
TZOFFSETFROM:-0500
TZOFFSETTO:-0600
TZNAME:CST
DTSTART:20261101T070000
END:STANDARD
END:VTIMEZONE
BEGIN:VEVENT
DTSTART;TZID=America/Chicago:20251106T110000
DTEND;TZID=America/Chicago:20251106T120000
DTSTAMP:20260419T221943
CREATED:20250828T203850Z
LAST-MODIFIED:20250828T203850Z
UID:3675-1762426800-1762430400@repfritts.com
SUMMARY:WITS Workout
DESCRIPTION:Inviting adults 60 years and older to participate in a FREE 12-week brain health engagement program.  Thursdays\, Sept. 4 through November 12th. Register at 815-538-5142.
URL:https://repfritts.com/event/wits-workout-10/
LOCATION:Graves Hume Public Library\, 1401 W. Main Street\, Mendota\, IL\, United States
CATEGORIES:Community Calendar
END:VEVENT
BEGIN:VEVENT
DTSTART;TZID=America/Chicago:20251115T090000
DTEND;TZID=America/Chicago:20251115T120000
DTSTAMP:20260419T221943
CREATED:20251113T150857Z
LAST-MODIFIED:20251113T150857Z
UID:3808-1763197200-1763208000@repfritts.com
SUMMARY:Sauk Valley Community College Freedom 5K
DESCRIPTION:There will be prizes at the event that will be raffled on race day.  All proceeds will go to the Student Veteran Organization.  $30 dollar registration fee. 
URL:https://repfritts.com/event/sauk-valley-community-college-freedom-5k/
LOCATION:Sauk Valley Community College\, 173 IL-2\, Dixon\, IL\, United States
CATEGORIES:Community Calendar
END:VEVENT
BEGIN:VEVENT
DTSTART;TZID=America/Chicago:20251115T170000
DTEND;TZID=America/Chicago:20251115T220000
DTSTAMP:20260419T221943
CREATED:20251113T150950Z
LAST-MODIFIED:20251113T150950Z
UID:3810-1763226000-1763244000@repfritts.com
SUMMARY:8th Annual Quartermania
DESCRIPTION:Join this fun event presented by Rochelle Chamber of Commerce! Enjoy some delicious food and drink from the Flight Deck\, bid on some awesome silent auction items donated by chamber members and of course get caught up in the excitement of the Quarter Auction!! We will have a 60/40 raffle also that night. All proceeds go to support the chamber programs that help promote local businesses.
URL:https://repfritts.com/event/8th-annual-quartermania/
LOCATION:The Flight Deck\, 1207 Gurler Road\, Rochelle\, IL\, United States
CATEGORIES:Community Calendar
END:VEVENT
BEGIN:VEVENT
DTSTART;TZID=America/Chicago:20251115T183000
DTEND;TZID=America/Chicago:20251115T193000
DTSTAMP:20260419T221943
CREATED:20251113T151033Z
LAST-MODIFIED:20251113T151034Z
UID:3812-1763231400-1763235000@repfritts.com
SUMMARY:Marvel vs. DC Trivia Night
DESCRIPTION:Join us for trivia\, specialty drinks\, food and prizes!
URL:https://repfritts.com/event/marvel-vs-dc-trivia-night/
LOCATION:The Flight Deck\, 1207 Gurler Road\, Rochelle\, IL\, United States
CATEGORIES:Community Calendar
END:VEVENT
BEGIN:VEVENT
DTSTART;TZID=America/Chicago:20251117T170000
DTEND;TZID=America/Chicago:20251117T183000
DTSTAMP:20260419T221943
CREATED:20251110T180814Z
LAST-MODIFIED:20251110T180814Z
UID:3787-1763398800-1763404200@repfritts.com
SUMMARY:Medicare 101 Event
DESCRIPTION:Join the Office of State Representative Brad Fritts and the Northwestern Illinois Area Agency on Aging for a FREE\, informational Medicare 101 event. The event will specifically focus on individuals who are thinking about or currently in the process of retiring.  \nLocal residents can attend this event on Monday\, November 17th\, from 5:00 PM to 6:30 PM at the Hub City Senior Center\, located at 401 Cherry Avenue in Rochelle.  \nRepresentative Fritts also reminds constituents that his office is available for assistance with state agencies or programs at any time. His district office can be reached at 815-561-3690. 
URL:https://repfritts.com/event/medicare-101-event/
LOCATION:Hub City Senior Center\, 401 Cherry Avenue\, Rochelle\, IL\, United States
CATEGORIES:Community Calendar,Rep. Fritts Calendar
ATTACH;FMTTYPE=image/png:https://repfritts.com/wp-content/uploads/sites/64/2025/11/fritts-medicare-101-1125-wg-scaled.png
END:VEVENT
BEGIN:VEVENT
DTSTART;TZID=America/Chicago:20251120T160000
DTEND;TZID=America/Chicago:20251120T190000
DTSTAMP:20260419T221943
CREATED:20251113T151421Z
LAST-MODIFIED:20251113T151421Z
UID:3814-1763654400-1763665200@repfritts.com
SUMMARY:Hometown Holidays Holiday Bingo
DESCRIPTION:Doors Open 4pm Games start at 6pm. Join us for some festive fun and play Holiday Bingo!  Tickets are $15 dollars online and at Sauk Valley Bank- must be 18 to attend.
URL:https://repfritts.com/event/hometown-holidays-holiday-bingo/
LOCATION:McCormick Event Center\, 205 E 3rd Street\, Rock Falls\, IL\, United States
CATEGORIES:Community Calendar
END:VEVENT
BEGIN:VEVENT
DTSTART;TZID=America/Chicago:20251122T080000
DTEND;TZID=America/Chicago:20251122T140000
DTSTAMP:20260419T221943
CREATED:20251113T151533Z
LAST-MODIFIED:20251113T151533Z
UID:3818-1763798400-1763820000@repfritts.com
SUMMARY:Hometown Holiday Craft Show
DESCRIPTION:Come shop local – perfect to find some stocking stuffers and gifts!
URL:https://repfritts.com/event/hometown-holiday-craft-show/
LOCATION:Harvest Time Bible Church\, 1802 Dixon Road\, Rock Falls\, IL\, United States
CATEGORIES:Community Calendar
END:VEVENT
BEGIN:VEVENT
DTSTART;TZID=America/Chicago:20251123T150000
DTEND;TZID=America/Chicago:20251123T170000
DTSTAMP:20260419T221943
CREATED:20251113T151637Z
LAST-MODIFIED:20251113T151637Z
UID:3821-1763910000-1763917200@repfritts.com
SUMMARY:Craft Cocktail Class
DESCRIPTION:You will have 10 drinks you can choose from to create your own.  Three 10oz crafted cocktails per person and snacks provided.  All drinks can also be crafted with our NA Lyre spirits as well. 
URL:https://repfritts.com/event/craft-cocktail-class/
LOCATION:The Flight Deck\, 1207 Gurler Road\, Rochelle\, IL\, United States
CATEGORIES:Community Calendar
END:VEVENT
END:VCALENDAR